{"text_format":"1","workbook":"xlsx","n_sheets":5,"sheets":["Handleiding","Input","Overview","Grafieken","Blad1"],"not_rendered":{"charts":5,"images":0,"macros":1,"external_links":0,"defined_names":0,"comments":0,"pivot_tables":0},"unopened":[],"bounds":{"document_bytes":16777216,"sheet_cells":100000,"rows_first":2000,"rows_last":500,"rows_between":2000,"halvings":0,"cell_chars":16384,"cell_head_chars":4096},"cells_cut":0,"cells_raw":0,"read":"whole","date_system":"1900"}

{"sheet":"Handleiding","index":0,"n_rows":45,"n_cols":10,"rows_kept":45,"cut":false,"hidden":false,"merged":[[5,1,5,2],[15,1,15,2],[15,6,15,7]]}
[]
[null,"Naam","Template Resultaten Morphan"]
[null,"Versie",1]
[null,"Omschrijving","Deze excelsheet zet de resultaten uit Morphan om in een overzichtelijk overzicht en weergeeft deze in grafieken. "]
[]
[null,"Inladen input data voor de resultatentabel - Stap 1",null,null,"Kustvaknummer","Kustvaknaam","Toetsing","BKL/HBKL","Toetsjaar"]
[null,null,"1. Definieer het kustvaknummer, kustvaknaam, het toetsingsjaar en of het om de BKL of HBKL gaat in de tabel hiernaast (keuzemenu). Deze informatie is nodig om de juiste bestanden in te lezen. ",null,"03","Ameland","2021-01-01","BKL",2021]
[null,null,"2. Controleer of de export-bestanden uit Morphan in de juiste map staan, vb kustvak Texel voor toetsjaar 2018: "]
[null,null,"P:\\wvl\\BenO_Kust\\3 Projecten\\Kustlijnzorg\\Programmeren\\Toetsing\\2018\\06_Texel\\Export Morphan_BKL of"]
[null,null," P:\\wvl\\BenO_Kust\\3 Projecten\\Kustlijnzorg\\Programmeren\\Toetsing\\2018\\06_Texel\\Export Morphan_HBKL"]
[null,null,"3. Controleer of de export-bestanden uit Morphan met de juiste naam zijn opgeslagen (format: {kustvaknummer}_{kustvaknaam}_TKL_resultaten_{BKL/HBKL}_{Toetsing}.csv en {kustvaknummer}_{kustvaknaam}_volume_{diep/strand/duin/totaal}_{toetsing}_{BKL/HBKL}.csv, vb kustvak Texel, BKL:"]
[null,null,"Let op: Als je een resultatentabel voor de HBKL wilt maken, moeten de volume bestanden ook in de Eport Morphan_HBKL map staan, anders werkt de excel file niet."]
[null,null,"06_Texel_TKL_resultaten_BKL_1-1-2018.csv, 06_Texel_volume_diep_1-1-2018_BKL.csv, 06_Texel_volume_strand_1-1-2018.csv, 06_Texel_volume_duin_1-1-2018.csv, 06_Texel_volume_totaal_1-1-2018.csv"]
[null,null,"4. Klik op de knop hiernaast om de macro te starten en de resultaten in te laden en te sorteren. "]
[]
[null,"Grafieken gebruiken voor factsheets - Stap 2",null,null,"Beginraai","Eindraai"]
[null,null,"1. Definieer de gewenste raaien voor in de factsheet. ",null,900,1000]
[null,null,"2. Zorg dat de beginraai een lagere waarde heeft dan de eindraai"]
[null,null,"3. Klik op de knop naast de invoerlocatie van de raaien. In een nieuw tabblad worden de grafieken gemaakt die je in je factsheet kan plakken. "]
[null,null,"LET OP: Deze optie kan onbeperkt vaak worden gebruikt voor combinaties van raaien. "]
[]
[]
[]
[]
[]
[]
[]
[null,null,null,null,null,null,null,null,null,"    "]
[]
[]
[]
[]
[]
[]
[]
[]
[]
[]
[]
[]
[]
[]
[]
[]
[null,null,"                         "]

{"sheet":"Input","index":1,"n_rows":140,"n_cols":84,"rows_kept":140,"cut":false,"hidden":false,"merged":[]}
[null,"Raai","Bovengrens [m + NAP]","Ondergrens [m + NAP]","Landwaartse grens [m + RSP]","Zeewaartse grens [m + RSP]","CalculatedXMaxSea","CalculatedXMinLand","BKL","Beginjaar (trend)","Eindjaar (trend)","Uitgesloten jaren","Beginjaar (extrapolatie)","Trend [m/jaar]","R2","Tijdstip waarop BKL wordt gepasseerd (datum)","Tijdstip waarop BKL wordt gepasseerd (dag)","Tijdstip waarop BKL wordt gepasseerd (maand)","Tijdstip waarop BKL wordt gepasseerd (jaar)","Jaar waarop BKL wordt doorsneden","XMKL","Opmerkingen","TKL [m + RSP]","TKL [m + RSP]","TKL [m + RSP]","TKL [m + RSP]","TKL [m + RSP]","Verschil TKL-BKL [m]","Verschil TKL-BKL [m]","Verschil TKL-BKL [m]","Verschil TKL-BKL [m]","Verschil TKL-BKL [m]"]
[null,null,null,null,null,null,null,null,null,null,null,null,null,null,null,null,null,null,null,null,null,null,"2021-01-01","2022-01-01","2023-01-01","2024-01-01","2025-01-01","2021-01-01","2022-01-01","2023-01-01","2024-01-01","2025-01-01"]
[null,null,null,null,null,null,null,null,null,null,null,null,null,null,null,null,null,null,null,null,null,null,1,1,1,1,1,1,1,1,1,1]
[null,null,null,null,null,null,null,null,null,null,null,null,null,null,null,null,null,null,null,null,null,null,1,1,1,1,1,1,1,1,1,1]
["KV",null,null,null,null,null,null,null,null,null,null,null,null,null,null,null,null,null,null,null,null,null,2021,2022,2023,2024,2025,2021,2022,2023,2024,2025,null,null,null,null,"KV","Nr","Bovengrens [m+NAP]","Ondergrens [m+NAP]","Landwaartse grens [m+RSP]","Zeewaartse grens [m+RSP]","Beginjaar (trend)","Eindjaar (trend)","Uitgesloten jaren","Trend [m3/m/jaar]","R2","KV","Nr","Bovengrens [m+NAP]","Ondergrens [m+NAP]","Landwaartse grens [m+RSP]","Zeewaartse grens [m+RSP]","Beginjaar (trend)","Eindjaar (trend)","Uitgesloten jaren","Trend [m3/m/jaar]","R2","KV","Nr","Bovengrens [m+NAP]","Ondergrens [m+NAP]","Landwaartse grens [m+RSP]","Zeewaartse grens [m+RSP]","Beginjaar (trend)","Eindjaar (trend)","Uitgesloten jaren","Trend [m3/m/jaar]","R2","KV","Nr","Bovengrens [m+NAP]","Ondergrens [m+NAP]","Landwaartse grens [m+RSP]","Zeewaartse grens [m+RSP]","Beginjaar (trend)","Eindjaar (trend)","Uitgesloten jaren","Trend [m3/m/jaar]","R2"]
[3,100,2.2000000000000002,-4.4400000000000004,"NaN",950,950,-39.26,19,2011,2020,null,2020,5.65,0.66,"NaN","NaN","NaN","NaN","-",154.41,{"$f":"\"- - - - -\"","v":"- - - - -"},133.13999999999999,138.79,144.44999999999999,150.1,155.75,114.14,119.79,125.45,131.1,136.75,null,null,null,null,3,100,"NaN","NaN",-160,950,2011,2020,null,24.69,0.15,3,100,4,-2,-160,950,2011,2020,null,16.899999999999999,0.55000000000000004,3,100,50,4,-160,950,2011,2020,null,22.68,0.97,3,100,"NaN","NaN",-160,950,2011,2020,null,24.69,0.15]
[3,101,2.2000000000000002,-4.4400000000000004,"NaN",950,950,"NaN",19,2011,2020,null,2020,5.1100000000000003,0.69,"NaN","NaN","NaN","NaN","-",143.1,{"$f":"\"- - - - -\"","v":"- - - - -"},125.99,131.1,136.21,141.31,146.41999999999999,106.99,112.1,117.21,122.31,127.42,null,null,null,null,3,101,"NaN","NaN",-150,950,2011,2020,null,-2.69,0,3,101,4,-2,-150,950,2011,2020,null,15.99,0.56999999999999995,3,101,50,4,-150,950,2011,2020,null,-10.42,0.55000000000000004,3,101,"NaN","NaN",-150,950,2011,2020,null,-2.69,0]
[3,102,2.2000000000000002,-4.4400000000000004,"NaN",950,950,"NaN",23,2011,2020,null,2020,5,0.69,"NaN","NaN","NaN","NaN","-",138.26,{"$f":"\"- - - - -\"","v":"- - - - -"},122.94,127.94,132.94,137.94,142.93,99.94,104.94,109.94,114.94,119.93,null,null,null,null,3,102,"NaN","NaN",-140,970,2011,2020,null,5.83,0.01,3,102,4,-2,-140,970,2011,2020,null,15.71,0.56000000000000005,3,102,50,4,-140,970,2011,2020,null,-0.84,0.08,3,102,"NaN","NaN",-140,970,2011,2020,null,5.83,0.01]
[3,103,2.2000000000000002,-4.4400000000000004,"NaN",1000,1000,"NaN",21,2011,2020,null,2020,4.8,0.71,"NaN","NaN","NaN","NaN","-",132.93,{"$f":"\"- - - - -\"","v":"- - - - -"},122.2,127,131.80000000000001,136.59,141.38999999999999,101.2,106,110.8,115.59,120.39,null,null,null,null,3,103,"NaN","NaN",-140,1000,2011,2020,null,4.58,0.01,3,103,4,-2,-140,1000,2011,2020,null,15.76,0.59,3,103,50,4,-140,1000,2011,2020,null,7.54,0.95,3,103,"NaN","NaN",-140,1000,2011,2020,null,4.58,0.01]
[3,104,2.2000000000000002,-4.4400000000000004,"NaN",1000,1000,-35.5,28,2011,2020,null,2020,4.6100000000000003,0.75,"NaN","NaN","NaN","NaN","-",129.5,{"$f":"\"- - - - -\"","v":"- - - - -"},121.24,125.85,130.46,135.07,139.68,93.24,97.85,102.46,107.07,111.68,null,null,null,null,3,104,"NaN","NaN",-140,1050,2011,2020,null,-9.17,0.02,3,104,4,-2,-140,1050,2011,2020,null,15.61,0.59,3,104,50,4,-140,1050,2011,2020,null,7.72,0.94,3,104,"NaN","NaN",-140,1050,2011,2020,null,-9.17,0.02]
[3,120,2.2000000000000002,-4.4400000000000004,"NaN",1150,1150,6.95,93,2011,2019,null,2020,2.15,0.49,"NaN","NaN","NaN","NaN","-",148.82,{"$f":"\"- - 3 - -\"","v":"- - 3 - -"},150.5,152.65,154.81,156.96,159.11000000000001,57.5,59.65,61.81,63.96,66.11,null,null,null,null,3,120,"NaN","NaN",-120,1100,2011,2020,null,-12.42,0.02,3,120,4,-2,-120,1100,2011,2018,null,5.09,0.1,3,120,50,4,-120,1100,2011,2020,null,16.36,0.99,3,120,"NaN","NaN",-120,1100,2011,2019,null,3.71,0]
[3,140,2.2000000000000002,-4.4400000000000004,"NaN",1200,1200,12.27,94,2016,2019,null,2020,-0.3,0.56000000000000005,"2242-11-13",13,11,2242,">2031",160.85,{"$f":"\"- - 3 - -\"","v":"- - 3 - -"},160.61000000000001,160.31,160.01,159.71,159.41,66.61,66.31,66.010000000000005,65.709999999999994,65.41,null,null,null,null,3,140,"NaN","NaN",-200,1240,2011,2020,null,-13.09,0.01,3,140,4,-2,-200,1240,2016,2018,null,-53.67,0.99,3,140,50,4,-200,1240,2011,2020,null,18.36,0.99,3,140,"NaN","NaN",-200,1240,2016,2019,null,-359.22,0.96]
[3,200,2.2000000000000002,-4.4400000000000004,"NaN",1300,1300,-13.29,165,2016,2019,null,2020,1.29,0.43,"Heden",26,8,2033,"-",147.71,{"$f":"\"1 - 3 - -\"","v":"1 - 3 - -"},148.71,150,151.29,152.58000000000001,153.86000000000001,-16.29,-15,-13.71,-12.42,-11.14,null,null,null,null,3,200,"NaN","NaN",-130,1300,2011,2020,null,4.88,0,3,200,4,-2,-130,1300,2016,2018,null,-55.14,1,3,200,50,4,-130,1300,2011,2020,null,4.63,0.38,3,200,"NaN","NaN",-130,1300,2016,2019,null,-278.08,0.79]
[3,201,2.2000000000000002,-4.4400000000000004,"NaN",1400,1400,-14.86,160,2016,2019,null,2020,2.74,0.49,"Heden",15,5,2025,"-",145.91999999999999,"1 - 3 - -",148.05000000000001,150.78,153.52000000000001,156.26,158.99,-11.95,-9.2200000000000006,-6.48,-3.74,-1.01,null,null,null,null,3,201,"NaN","NaN",-140,1400,2011,2020,null,30.56,0.09,3,201,4,-2,-140,1400,2016,2018,null,-54.95,1,3,201,50,4,-140,1400,2011,2020,null,5.4,0.57999999999999996,3,201,"NaN","NaN",-140,1400,2016,2019,null,-175.2,0.54]
[3,202,2.2000000000000002,-4.4400000000000004,"NaN",1500,1500,"NaN",170,2016,2019,null,2020,2.4900000000000002,0.39,"Heden",24,8,2029,"-",146.52000000000001,"1 - 3 - -",148.46,150.94999999999999,153.44,155.94,158.43,-21.54,-19.05,-16.559999999999999,-14.06,-11.57,null,null,null,null,3,202,"NaN","NaN",-150,1500,2011,2020,null,151.13,0.62,3,202,4,-2,-150,1500,2016,2018,null,-60.37,1,3,202,50,4,-150,1500,2011,2020,null,5.83,0.38,3,202,"NaN","NaN",-150,1500,2016,2019,null,-27.16,0.02]
[3,203,2.2000000000000002,-4.4400000000000004,"NaN",1520,1520,"NaN",190,2016,2019,null,2020,3.1,0.77,"Heden",14,8,2032,"-",151.57,"1 - 3 - -",153.97999999999999,157.08000000000001,160.18,163.28,166.38,-36.020000000000003,-32.92,-29.82,-26.72,-23.62,null,null,null,null,3,203,"NaN","NaN",-170,1520,2011,2020,null,274.75,0.86,3,203,4,-2,-170,1520,2016,2018,null,-59.01,1,3,203,50,4,-170,1520,2011,2020,null,10.51,0.61,3,203,"NaN","NaN",-170,1520,2016,2019,null,210.32,0.66]
[3,204,2.2000000000000002,-4.4400000000000004,"NaN",600,600,"NaN",210,2016,2019,null,2020,2.71,0.41,"Heden",27,2,2038,"-",161.4,"1 - 3 - -",163.51,166.22,168.93,171.64,174.35,-46.49,-43.78,-41.07,-38.36,-35.65,null,null,null,null,3,204,"NaN","NaN",-180,1500,2011,2020,null,338.12,0.9,3,204,4,-2,-180,1500,2016,2018,null,-62.37,1,3,204,50,4,-180,1500,2011,2020,null,17.16,0.86,3,204,"NaN","NaN",-180,1500,2016,2019,null,414.29,0.86]
[3,220,2.2000000000000002,-4.4400000000000004,"NaN",600,600,59.64,360,2016,2019,null,2020,-6.06,0.93,"NaN","NaN","NaN","NaN","-",264.33999999999997,"1 - 3 - -",259.62,253.56,247.5,241.44,235.38,-100.38,-106.44,-112.5,-118.56,-124.62,null,null,null,null,3,220,"NaN","NaN",-50,2000,2011,2020,null,490.67,0.93,3,220,4,-2,-50,2000,2016,2018,null,-111.79,1,3,220,50,4,-50,2000,2011,2020,null,6.56,0.77,3,220,"NaN","NaN",-50,2000,2016,2019,null,1030.9100000000001,1]
[3,240,2.2000000000000002,-4.4400000000000004,"NaN",600,600,87.58,440,2016,2018,null,2020,-5.73,0.99,"NaN","NaN","NaN","NaN","-",322.48,"1 - 3 - -",318.02,312.27999999999997,306.55,300.82,295.08,-121.98,-127.72,-133.44999999999999,-139.18,-144.91999999999999,null,null,null,null,3,240,"NaN","NaN",55,2000,2016,2018,null,550.07000000000005,0.96,3,240,4,-2,55,2000,2016,2018,null,-74.83,0.92,3,240,50,4,55,2000,2011,2020,null,6.99,0.84,3,240,"NaN","NaN",55,2000,2016,2018,null,550.07000000000005,0.96]
[3,260,2.2000000000000002,-4.4400000000000004,"NaN",600,600,89.85,450,2016,2018,null,2020,-22.33,0.98,"NaN","NaN","NaN","NaN","-",336.79,"1 - 3 - -",319.39999999999998,297.07,274.74,252.41,230.08,-130.6,-152.93,-175.26,-197.59,-219.92,null,null,null,null,3,260,"NaN","NaN",60,2000,2016,2018,null,23.59,0.99,3,260,4,-2,60,2000,2016,2018,null,-149.77000000000001,1,3,260,50,4,60,2000,2011,2020,null,3.03,0.59,3,260,"NaN","NaN",60,2000,2016,2018,null,23.59,0.99]
[3,280,2.2000000000000002,-4.4400000000000004,"NaN",600,600,115.66,450,2016,2018,null,2020,-30.61,1,"Heden",22,5,2016,"-",332.72,"1 - 3 - -",308.88,278.27,247.66,217.05,186.44,-141.12,-171.73,-202.34,-232.95,-263.56,null,null,null,null,3,280,"NaN","NaN",80,2000,2016,2018,null,-281.27999999999997,0.99,3,280,4,-2,80,2000,2016,2018,null,-197.37,1,3,280,50,4,80,2000,2011,2020,null,-13.11,0.59,3,280,"NaN","NaN",80,2000,2016,2018,null,-281.27999999999997,0.99]
[3,300,2.2000000000000002,-4.4400000000000004,"NaN",3000,"NaN",117.6,455,2016,2018,null,2020,-39.97,1,"Heden",12,9,2018,"-",394.1,"1 - 3 - -",362.98,323.01,283.04000000000002,243.08,203.11,-92.02,-131.99,-171.96,-211.92,-251.89,null,null,null,null,3,300,"NaN","NaN",85,2000,2016,2018,null,-364.78,1,3,300,4,-2,85,2000,2016,2018,null,-239.9,1,3,300,50,4,85,2000,2011,2020,null,-12.77,0.89,3,300,"NaN","NaN",85,2000,2016,2018,null,-364.78,1]
[3,301,2.2000000000000002,-4.4400000000000004,"NaN",3000,"NaN",120,460,2016,2018,null,2020,-28.8,1,"NaN","NaN","NaN","NaN","-",334.24,"1 - 3 - -",311.81,283,254.2,225.39,196.59,-148.19,-177,-205.8,-234.61,-263.41000000000003,null,null,null,null,3,301,"NaN","NaN",85,2000,2016,2018,null,-324.3,0.98,3,301,4,-2,85,2000,2016,2018,null,-244.78,1,3,301,50,4,85,2000,2011,2020,null,-13.01,0.86,3,301,"NaN","NaN",85,2000,2016,2018,null,-324.3,0.98]
[3,302,2.2000000000000002,-4.4400000000000004,"NaN",3000,"NaN",135.81,465,2016,2018,null,2020,-35.26,0.97,"Heden",13,2,2017,"-",355.6,"1 - 3 - -",328.15,292.89,257.64,222.38,187.12,-136.85,-172.11,-207.36,-242.62,-277.88,null,null,null,null,3,302,"NaN","NaN",90,2000,2016,2018,null,-381.44,0.95,3,302,4,-2,90,2000,2016,2018,null,-248.18,1,3,302,50,4,90,2000,2011,2020,null,-11.81,0.86,3,302,"NaN","NaN",90,2000,2016,2018,null,-381.44,0.95]
[3,303,2.2000000000000002,-4.4400000000000004,"NaN",3000,"NaN","NaN",475,2016,2018,null,2020,-20.149999999999999,0.98,"Heden",25,6,2017,"-",419.8,"1 - 3 - -",404.12,383.97,363.82,343.67,323.52999999999997,-70.88,-91.03,-111.18,-131.33000000000001,-151.47,null,null,null,null,3,303,"NaN","NaN",90,2000,2016,2018,null,-257.76,0.98,3,303,4,-2,90,2000,2016,2018,null,-259.2,1,3,303,50,4,90,2000,2011,2020,null,-16.38,0.88,3,303,"NaN","NaN",90,2000,2016,2018,null,-257.76,0.98]
[3,304,2.2000000000000002,-4.4400000000000004,"NaN",3000,"NaN","NaN",480,2016,2018,null,2020,-19.7,0.83,"Heden",3,6,2019,"-",464.23,"1 - 3 - -",448.89,429.19,409.5,389.8,370.1,-31.11,-50.81,-70.5,-90.2,-109.9,null,null,null,null,3,304,"NaN","NaN",90,2000,2016,2018,null,-210.62,0.92,3,304,4,-2,90,2000,2016,2018,null,-265.44,1,3,304,50,4,90,2000,2011,2020,null,-20.75,0.87,3,304,"NaN","NaN",90,2000,2016,2018,null,-210.62,0.92]
[3,320,2.2000000000000002,-4.4400000000000004,"NaN",3000,"NaN",220.83,560,2016,2018,null,2020,-49.93,1,"Heden",21,3,2020,"-",559.98,"1 - 3 - -",521.1,471.17,421.23,371.3,321.37,-38.9,-88.83,-138.77000000000001,-188.7,-238.63,null,null,null,null,3,320,"NaN","NaN",160,2000,2016,2018,null,-356.55,0.99,3,320,4,-2,160,2000,2016,2018,null,-267.93,1,3,320,50,4,160,2000,2011,2020,null,-14.4,0.74,3,320,"NaN","NaN",160,2000,2016,2018,null,-356.55,0.99]
[3,340,2.2000000000000002,-4.4400000000000004,"NaN",3000,"NaN",275.83,620,2016,2018,null,2020,-48.07,0.96,"Heden",23,11,2020,"-",652.37,"1 - 3 - -",614.94000000000005,566.88,518.80999999999995,470.75,422.68,-5.0599999999999996,-53.12,-101.19,-149.25,-197.32,null,null,null,null,3,340,"NaN","NaN",260,2200,2016,2018,null,-277.41000000000003,0.99,3,340,4,-2,260,2200,2016,2018,null,-238.44,0.99,3,340,50,4,260,2200,2011,2020,null,-9.3000000000000007,0.68,3,340,"NaN","NaN",260,2200,2016,2018,null,-277.41000000000003,0.99]
[3,360,2.2000000000000002,-4.4400000000000004,"NaN",3000,"NaN",296.98,660,2016,2018,null,2020,-44.39,0.98,"2021-08-23",23,8,2021,2021,723.08,{"$f":"\"- - 3 - -\"","v":"- - 3 - -"},688.51,644.12,599.73,555.33000000000004,510.94,28.51,-15.88,-60.27,-104.67,-149.06,null,null,null,null,3,360,"NaN","NaN",280,2200,2016,2018,null,-225.33,0.96,3,360,4,-2,280,2200,2016,2018,null,-228.38,1,3,360,50,4,280,2200,2011,2020,null,-27.51,0.72,3,360,"NaN","NaN",280,2200,2016,2018,null,-225.33,0.96]
[3,380,2.2000000000000002,-4.4400000000000004,"NaN",3000,"NaN",295.48,670,2016,2018,null,2020,-40.4,0.87,"2023-07-16",16,7,2023,2023,804.03,{"$f":"\"- - 3 - -\"","v":"- - 3 - -"},772.57,732.17,691.77,651.36,610.96,102.57,62.17,21.77,-18.64,-59.04,null,null,null,null,3,380,"NaN","NaN",315,2000,2016,2018,null,-87.64,0.97,3,380,4,-2,315,2200,2016,2018,null,-221.11,1,3,380,50,4,315,2200,2011,2020,null,1.98,0.11,3,380,"NaN","NaN",315,2200,2016,2018,null,-113.53,0.97]
[3,400,2.2000000000000002,-4.4400000000000004,"NaN",3000,"NaN",291.08999999999997,670,2016,2019,null,2020,-25.74,0.99,"2028-09-27",27,9,2028,2028,889.19,{"$f":"\"- - 3 - -\"","v":"- - 3 - -"},869.15,843.41,817.68,791.94,766.2,199.15,173.41,147.68,121.94,96.2,null,null,null,null,3,400,"NaN","NaN",315,2000,2016,2019,null,-91.06,0.94,3,400,4,-2,315,2200,2016,2018,null,-229.97,1,3,400,50,4,315,2200,2011,2020,null,9.89,0.99,3,400,"NaN","NaN",315,2200,2016,2019,null,-100.33,0.93]
[3,401,2.2000000000000002,-4.4400000000000004,"NaN",965,965,295.91000000000003,670,2016,2019,null,2020,-41.03,1,"Heden",17,2,2020,"-",666.27,{"$f":"\"1 - 3 - -\"","v":"1 - 3 - -"},634.32000000000005,593.29,552.25,511.22,470.19,-35.68,-76.709999999999994,-117.75,-158.78,-199.81,null,null,null,null,3,401,"NaN","NaN",315,2000,2016,2019,null,-96.31,0.78,3,401,4,-2,315,2200,2016,2018,null,-224.63,1,3,401,50,4,315,2200,2011,2020,null,7.84,0.99,3,401,"NaN","NaN",315,2200,2016,2019,null,-97.49,0.69]
[3,402,2.2000000000000002,-4.4400000000000004,"NaN",1118,1118,600,675,2016,2019,null,2020,-44.38,1,"Heden",21,9,2020,"-",697.2,{"$f":"\"1 - 3 - -\"","v":"1 - 3 - -"},662.65,618.27,573.9,529.52,485.15,-12.35,-56.73,-101.1,-145.47999999999999,-189.85,null,null,null,null,3,402,"NaN","NaN",320,2000,2016,2019,null,-77.06,0.81,3,402,4,-2,320,2200,2016,2018,null,-226.06,1,3,402,50,4,320,2200,2011,2020,null,8.01,0.99,3,402,"NaN","NaN",320,2200,2016,2019,null,-94.64,0.75]
[3,420,2.2000000000000002,-4.4400000000000004,"NaN",1350,1350,349.72,725,2011,2019,null,2020,-31.77,0.97,"2022-08-29",29,8,2022,2022,802.45,{"$f":"\"- - 3 - -\"","v":"- - 3 - -"},777.71,745.94,714.17,682.4,650.63,52.71,20.94,-10.83,-42.6,-74.37,null,null,null,null,3,420,"NaN","NaN",365,2000,2011,2019,null,-80.7,0.63,3,420,4,-2,365,2000,2011,2018,null,-106.71,0.91,3,420,50,4,365,2000,2011,2020,null,7.29,0.98,3,420,"NaN","NaN",365,2000,2011,2019,null,-80.7,0.63]
[3,440,2.2000000000000002,-4.4400000000000004,"NaN",1500,1500,"NaN",770,2011,2020,null,2020,-26.04,0.94,"2025-07-15",15,7,2025,2025,921.79,{"$f":"\"- - - - -\"","v":"- - - - -"},888.11,862.07,836.04,810,783.96,118.11,92.07,66.040000000000006,40,13.96,null,null,null,null,3,440,"NaN","NaN",415,2000,2011,2020,null,-55.08,0.3,3,440,4,-2,415,2000,2011,2020,null,-94.46,0.9,3,440,50,4,415,2000,2011,2020,null,7.76,0.99,3,440,"NaN","NaN",415,2000,2011,2020,null,-55.08,0.3]
[3,460,2.2000000000000002,-4.4400000000000004,"NaN",1600,1600,419.66,810,2011,2020,null,2020,-19.66,0.86,"2033-03-07",7,3,2033,">2031",1048.06,"- - - - -",1049.44,1029.78,1010.12,990.46,970.8,239.44,219.78,200.12,180.46,160.80000000000001,null,null,null,null,3,460,"NaN","NaN",455,2000,2011,2020,null,-2.2000000000000002,0,3,460,4,-2,455,2000,2011,2020,null,-50.24,0.69,3,460,50,4,455,2000,2011,2020,null,8.5399999999999991,0.97,3,460,"NaN","NaN",455,2000,2011,2020,null,-2.2000000000000002,0]
[3,480,2.2000000000000002,-4.4400000000000004,"NaN",1750,"NaN",448.12,850,2011,2020,null,2020,-8.93,0.45,"2062-03-31",31,3,2062,">2031",1181.92,"- - - - -",1218.47,1209.54,1200.6099999999999,1191.67,1182.74,368.47,359.54,350.61,341.67,332.74,null,null,null,null,3,480,"NaN","NaN",485,2000,2011,2020,null,12.2,0.05,3,480,4,-2,485,2000,2011,2020,null,-9.19,0.04,3,480,50,4,485,2000,2011,2020,null,3.1,0.88,3,480,"NaN","NaN",485,2000,2011,2020,null,12.2,0.05]
[3,500,2.2000000000000002,-4.4400000000000004,"NaN",1800,"NaN",436.25,830,2011,2020,null,2020,8.5299999999999994,0.39,"NaN","NaN","NaN","NaN","-",1344.5,"- - - - -",1406.92,1415.45,1423.98,1432.51,1441.04,576.91999999999996,585.45000000000005,593.98,602.51,611.04,null,null,null,null,3,500,"NaN","NaN",470,1700,2011,2020,null,93.46,0.6,3,500,4,-2,470,1700,2011,2020,null,62.86,0.64,3,500,50,4,470,1700,2011,2020,null,3.41,0.93,3,500,"NaN","NaN",470,1700,2011,2020,null,93.46,0.6]
[3,520,2.2000000000000002,-4.4400000000000004,"NaN",1800,1800,378.99,790,2011,2020,null,2020,23.39,0.78,"NaN","NaN","NaN","NaN","-",1469.26,"- - - - -",1555.08,1578.47,1601.87,1625.26,1648.66,765.08,788.47,811.87,835.26,858.66,null,null,null,null,3,520,"NaN","NaN",430,1700,2011,2020,null,208.71,0.85,3,520,4,-2,430,1700,2011,2020,null,118.52,0.82,3,520,50,4,430,1700,2011,2020,null,0.19,0.44,3,520,"NaN","NaN",430,1700,2011,2020,null,208.71,0.85]
[3,540,2.2000000000000002,-4.4400000000000004,"NaN",1800,"NaN",311.61,780,2011,2020,null,2020,33.25,0.88,"NaN","NaN","NaN","NaN","-",1545.95,"- - - - -",1620.85,1654.1,1687.36,1720.61,1753.87,840.85,874.1,907.36,940.61,973.87,null,null,null,null,3,540,"NaN","NaN",360,1700,2011,2020,null,265.79000000000002,0.91,3,540,4,-2,360,1700,2011,2020,null,153.56,0.9,3,540,50,4,360,1700,2011,2020,null,0.12,0.11,3,540,"NaN","NaN",360,1700,2011,2020,null,265.79000000000002,0.91]
[3,560,2.2000000000000002,-4.4400000000000004,"NaN",1770,"NaN",238.39,680,2011,2020,null,2020,43.07,0.96,"NaN","NaN","NaN","NaN","-",1573.47,"- - - - -",1644.32,1687.39,1730.46,1773.53,1816.59,964.32,1007.39,1050.46,1093.53,1136.5899999999999,null,null,null,null,3,560,"NaN","NaN",280,1700,2011,2020,null,315.69,0.96,3,560,4,-2,280,1700,2011,2020,null,189.78,0.95,3,560,50,4,280,1700,2011,2020,null,-0.39,0.46,3,560,"NaN","NaN",280,1700,2011,2020,null,315.69,0.96]
[3,580,2.2000000000000002,-4.4400000000000004,"NaN","NaN",1240,183.1,650,2011,2020,null,2020,67.88,0.89,"NaN","NaN","NaN","NaN","-",1802.19,"- - - - -",1928.61,1996.49,2064.38,2132.2600000000002,2200.14,1278.6099999999999,1346.49,1414.38,1482.26,1550.14,null,null,null,null,3,580,"NaN","NaN",230,2700,2011,2020,null,516.04999999999995,0.91,3,580,4,-2,230,2700,2011,2020,null,220.45,0.96,3,580,50,4,230,2700,2011,2020,null,0.06,0.06,3,580,"NaN","NaN",230,2700,2011,2020,null,516.04999999999995,0.91]
[3,600,2.2000000000000002,-4.4400000000000004,"NaN","NaN","NaN",147.59,575,2011,2020,null,2020,72.34,0.9,"NaN","NaN","NaN","NaN","-",1797.97,"- - - - -",1844.46,1916.81,1989.15,2061.4899999999998,2133.84,1269.46,1341.81,1414.15,1486.49,1558.84,null,null,null,null,3,600,"NaN","NaN",170,2700,2011,2020,null,559.5,0.89,3,600,4,-2,170,2700,2011,2020,null,220.33,0.92,3,600,50,4,170,2700,2011,2020,null,-0.52,0.68,3,600,"NaN","NaN",170,2700,2011,2020,null,559.5,0.89]
[3,620,2.2000000000000002,-4.4400000000000004,"NaN","NaN",1120,92.6,540,2011,2020,null,2020,72.040000000000006,0.95,"NaN","NaN","NaN","NaN","-",1658.75,"- - - - -",1713.26,1785.3,1857.34,1929.38,2001.42,1173.26,1245.3,1317.34,1389.38,1461.42,null,null,null,null,3,620,"NaN","NaN",140,2700,2011,2020,null,562.28,0.94,3,620,4,-2,140,2700,2011,2020,null,207.67,0.93,3,620,50,4,140,2700,2011,2020,null,0.04,0.01,3,620,"NaN","NaN",140,2700,2011,2020,null,562.28,0.94]
[3,640,2.2000000000000002,-4.4400000000000004,"NaN","NaN",1080,60.67,475,2011,2020,null,2020,71.349999999999994,0.97,"NaN","NaN","NaN","NaN","-",1577.36,"- - - - -",1598.86,1670.21,1741.56,1812.91,1884.27,1123.8599999999999,1195.21,1266.56,1337.91,1409.27,null,null,null,null,3,640,"NaN","NaN",105,2700,2011,2020,null,593.91,0.97,3,640,4,-2,105,2700,2011,2020,null,206.64,0.88,3,640,50,4,105,2700,2011,2020,null,-0.13,0.22,3,640,"NaN","NaN",105,2700,2011,2020,null,593.91,0.97]
[3,660,2.2000000000000002,-4.4400000000000004,"NaN","NaN",1040,36.79,425,2011,2020,2018,2019,2020,73.099999999999994,0.93,"NaN","NaN","NaN","NaN","-",1432.64,{"$f":"\"- - - - -\"","v":"- - - - -"},1520.88,1593.98,1667.08,1740.18,1813.28,1095.8800000000001,1168.98,1242.08,1315.18,1388.28,null,null,null,3,660,"NaN","NaN",65,2700,2011,2020,2018,2019,644.29,3,660,4,-2,65,2700,2011,2020,2018,2019,186.78,3,660,50,4,65,2700,2011,2020,null,-0.04,0.01,3,660,"NaN","NaN",65,2700,2011,2020,2018,2019,644.29,0.95]
[3,680,2.2000000000000002,-4.4400000000000004,"NaN","NaN","NaN",-8.33,400,2011,2020,null,2020,73.95,0.91,"NaN","NaN","NaN","NaN","-",1358.59,{"$f":"\"- - - - -\"","v":"- - - - -"},1423.86,1497.81,1571.77,1645.72,1719.67,1023.86,1097.81,1171.77,1245.72,1319.67,null,null,null,null,3,680,"NaN","NaN",35,2250,2011,2020,null,628.20000000000005,0.93,3,680,4,-2,35,2250,2011,2020,null,210.3,0.84,3,680,50,4,35,2250,2011,2020,null,-2.02,0.38,3,680,"NaN","NaN",35,2250,2011,2020,null,628.20000000000005,0.93]
[3,700,2.2000000000000002,-4.4400000000000004,"NaN","NaN",940,-28.57,350,2011,2020,null,2020,59.97,0.88,"NaN","NaN","NaN","NaN","-",1162.1199999999999,"- - - - -",1214.9000000000001,1274.8699999999999,1334.84,1394.81,1454.78,864.9,924.87,984.84,1044.81,1104.78,null,null,null,null,3,700,"NaN","NaN",5,2250,2011,2020,null,526.77,0.96,3,700,4,-2,5,2250,2011,2020,null,165.66,0.71,3,700,50,4,5,2250,2011,2020,null,-1.08,0.51,3,700,"NaN","NaN",5,2250,2011,2020,null,526.77,0.96]
[3,720,2.2000000000000002,-4.4400000000000004,"NaN","NaN",900,-52.8,325,2011,2020,null,2020,55.76,0.83,"NaN","NaN","NaN","NaN","-",1081.6199999999999,"- - - - -",1082.5999999999999,1138.3599999999999,1194.1199999999999,1249.8800000000001,1305.6400000000001,757.6,813.36,869.12,924.88,980.64,null,null,null,null,3,720,"NaN","NaN",-60,2300,2011,2020,null,526.24,0.96,3,720,4,-2,-60,2300,2011,2020,null,137.33000000000001,0.63,3,720,50,4,-60,2300,2011,2020,null,3.92,0.96,3,720,"NaN","NaN",-60,2300,2011,2020,null,526.24,0.96]
[3,740,2.2000000000000002,-4.4400000000000004,"NaN","NaN",840,-69.2,275,2011,2020,null,2020,35.9,0.66,"NaN","NaN","NaN","NaN","-",903.44,"- - - - -",853.36,889.25,925.15,961.05,996.95,578.36,614.25,650.15,686.05,721.95,null,null,null,null,3,740,"NaN","NaN",-65,2500,2011,2020,null,431.1,0.94,3,740,4,-2,-65,2500,2011,2020,null,64.91,0.33,3,740,50,4,-65,2500,2011,2020,null,-2.63,0.85,3,740,"NaN","NaN",-65,2500,2011,2020,null,431.1,0.94]
[3,760,2.2000000000000002,-4.4400000000000004,"NaN","NaN",800,-87.37,225,2011,2020,null,2020,21.2,0.43,"NaN","NaN","NaN","NaN","-",753.32,"- - - - -",680.83,702.03,723.23,744.43,765.63,455.83,477.03,498.23,519.42999999999995,540.63,null,null,null,null,3,760,"NaN","NaN",-85,2200,2011,2020,null,351.07,0.92,3,760,4,-2,-85,2200,2011,2020,null,22.14,0.08,3,760,50,4,-85,2200,2011,2020,null,-1.48,0.33,3,760,"NaN","NaN",-85,2200,2011,2020,null,351.07,0.92]
[3,780,2.2000000000000002,-4.4400000000000004,"NaN","NaN",800,-111.9,200,2011,2020,null,2020,5.44,0.06,"NaN","NaN","NaN","NaN","-",607.16999999999996,"- - - - -",522.51,527.95000000000005,533.39,538.83000000000004,544.27,322.51,327.95,333.39,338.83,344.27,null,null,null,null,3,780,"NaN","NaN",-115,2200,2011,2020,null,267.19,0.87,3,780,4,-2,-115,2200,2011,2020,null,-26.37,0.19,3,780,50,4,-115,2200,2011,2020,null,-1.3,0.45,3,780,"NaN","NaN",-115,2200,2011,2020,null,267.19,0.87]
[3,800,2.2000000000000002,-4.4400000000000004,"NaN","NaN","NaN",-140.41999999999999,150,2011,2020,null,2020,-10.039999999999999,0.24,"2043-11-26",26,11,2043,">2031",470.83,"- - - - -",380.02,369.98,359.93,349.89,339.85,230.02,219.98,209.93,199.89,189.85,null,null,null,null,3,800,"NaN","NaN",-120,1950,2011,2020,null,142.19,0.41,3,800,4,-2,-120,1950,2011,2020,null,-65.709999999999994,0.72,3,800,50,4,-120,1950,2011,2020,null,-0.55000000000000004,0.51,3,800,"NaN","NaN",-120,1950,2011,2020,null,142.19,0.41]
[3,820,2.2000000000000002,-4.4400000000000004,"NaN","NaN",700,-148.52000000000001,130,2011,2020,null,2020,-23.74,0.73,"2027-07-05",5,7,2027,2027,372.55,"- - - - -",284.45999999999998,260.72000000000003,236.99,213.25,189.52,154.46,130.72,106.99,83.25,59.52,null,null,null,null,3,820,"NaN","NaN",-145,2000,2011,2020,null,-18.59,0.01,3,820,4,-2,-145,2000,2011,2020,null,-106.08,0.89,3,820,50,4,-145,2000,2011,2020,null,2.48,0.94,3,820,"NaN","NaN",-145,2000,2011,2020,null,-18.59,0.01]
[3,840,2.2000000000000002,-4.4400000000000004,"NaN","NaN",700,-159.63999999999999,100,2011,2020,null,2020,-25.74,0.86,"2026-08-25",25,8,2026,2026,316.52,"- - - - -",245.34,219.6,193.87,168.13,142.4,145.34,119.6,93.87,68.13,42.4,null,null,null,null,3,840,"NaN","NaN",-160,2100,2011,2020,null,-83.34,0.22,3,840,4,-2,-160,2100,2011,2020,null,-104,0.92,3,840,50,4,-160,2100,2011,2020,null,2.23,0.83,3,840,"NaN","NaN",-160,2100,2011,2020,null,-83.34,0.22]
[3,860,2.2000000000000002,-4.4400000000000004,"NaN","NaN",700,-173.57,80,2011,2020,null,2020,-28.88,0.92,"2025-05-16",16,5,2025,2025,263.81,"- - - - -",206.27,177.39,148.51,119.62,90.74,126.27,97.39,68.510000000000005,39.619999999999997,10.74,null,null,null,null,3,860,"NaN","NaN",-175,2000,2011,2020,null,-135.08000000000001,0.66,3,860,4,-2,-175,2000,2011,2020,null,-104.54,0.94,3,860,50,4,-175,2000,2011,2020,null,2.4700000000000002,0.93,3,860,"NaN","NaN",-175,2000,2011,2020,null,-135.08000000000001,0.66]
[3,880,2.2000000000000002,-4.4400000000000004,"NaN","NaN",700,-188,60,2011,2020,null,2020,-28.51,0.95,"2025-05-31",31,5,2025,2025,235.14,"- - - - -",185.81,157.30000000000001,128.79,100.29,71.78,125.81,97.3,68.790000000000006,40.29,11.78,null,null,null,null,3,880,"NaN","NaN",-180,2200,2011,2020,null,-151.69,0.77,3,880,4,-2,-180,2200,2011,2020,null,-100.95,0.98,3,880,50,4,-180,2200,2011,2020,null,2.2599999999999998,0.78,3,880,"NaN","NaN",-180,2200,2011,2020,null,-151.69,0.77]
[3,900,2.2000000000000002,-4.4400000000000004,"NaN","NaN",3000,-200.15,50,2011,2020,null,2020,-28.86,0.97,"2025-02-09",9,2,2025,2025,195.38,"- - - - -",168.57,139.71,110.85,81.99,53.13,118.57,89.71,60.85,31.99,3.13,null,null,null,null,3,900,"NaN","NaN",-205,2200,2011,2020,null,-172.64,0.87,3,900,4,-2,-205,2200,2011,2020,null,-92.63,0.98,3,900,50,4,-205,2200,2011,2020,null,3.16,0.76,3,900,"NaN","NaN",-205,2200,2011,2020,null,-172.64,0.87]
[3,920,2.2000000000000002,-4.4400000000000004,"NaN","NaN",700,-207.84,20,2011,2020,null,2020,-23.96,0.94,"2027-10-01",1,10,2027,2027,195.22,"- - - - -",181.69,157.72999999999999,133.78,109.82,85.86,161.69,137.72999999999999,113.78,89.82,65.86,null,null,null,null,3,920,"NaN","NaN",-215,2150,2011,2020,null,-215.27,0.91,3,920,4,-2,-215,2150,2011,2020,null,-80.510000000000005,0.98,3,920,50,4,-215,2150,2011,2020,null,5.17,0.85,3,920,"NaN","NaN",-215,2150,2011,2020,null,-215.27,0.91]
[3,940,2.2000000000000002,-4.4400000000000004,"NaN","NaN",700,-216.56,20,2011,2020,null,2020,-20.059999999999999,0.92,"2029-02-14",14,2,2029,2029,183.92,"- - - - -",182.86,162.80000000000001,142.75,122.69,102.64,162.86000000000001,142.80000000000001,122.75,102.69,82.64,null,null,null,null,3,940,"NaN","NaN",-230,2200,2011,2020,null,-200.29,0.96,3,940,4,-2,-230,2200,2011,2020,null,-63.29,0.93,3,940,50,4,-230,2200,2011,2020,null,5.05,0.82,3,940,"NaN","NaN",-230,2200,2011,2020,null,-200.29,0.96]
[3,960,2.2000000000000002,-4.4400000000000004,"NaN","NaN",700,-221.37,30,2011,2020,null,2020,-16.93,0.9,"2030-04-19",19,4,2030,2030,184.11,"- - - - -",187.37,170.44,153.52000000000001,136.59,119.66,157.37,140.44,123.52,106.59,89.66,null,null,null,null,3,960,"NaN","NaN",-235,1800,2011,2020,null,-211.94,0.94,3,960,4,-2,-235,1800,2011,2020,null,-47.24,0.86,3,960,50,4,-235,1800,2011,2020,null,4.28,0.88,3,960,"NaN","NaN",-235,1800,2011,2020,null,-211.94,0.94]
[3,980,2.2000000000000002,-4.4400000000000004,"NaN","NaN",700,-228.06,40,2011,2020,null,2020,-10.82,0.77,"2035-10-01",1,10,2035,">2031",194.78,"- - - - -",199.57,188.75,177.93,167.11,156.29,159.57,148.75,137.93,127.11,116.29,null,null,null,null,3,980,"NaN","NaN",-245,1800,2011,2020,null,-144.49,0.89,3,980,4,-2,-245,1800,2011,2020,null,-31.06,0.73,3,980,50,4,-245,1800,2011,2020,null,4.83,0.89,3,980,"NaN","NaN",-245,1800,2011,2020,null,-144.49,0.89]
[3,1000,2.2000000000000002,-4.4400000000000004,"NaN","NaN",600,-235.88,50,2011,2020,null,2020,-7.48,0.73,"2041-01-12",12,1,2041,">2031",196.41,"- - - - -",199.79,192.32,184.84,177.36,169.88,149.79,142.32,134.84,127.36,119.88,null,null,null,null,3,1000,"NaN","NaN",-250,1750,2011,2020,null,-88.52,0.71,3,1000,4,-2,-250,1750,2011,2020,null,-16.61,0.44,3,1000,50,4,-250,1750,2011,2020,null,6.29,0.88,3,1000,"NaN","NaN",-250,1750,2011,2020,null,-88.52,0.71]
[3,1020,2.2000000000000002,-4.4400000000000004,"NaN","NaN",600,-226.32,48,2011,2020,null,2020,-3.92,0.31,"2060-04-03",3,4,2060,">2031",200.29,"- - - - -",202.06,198.13,194.21,190.29,186.36,154.06,150.13,146.21,142.29,138.36000000000001,null,null,null,null,3,1020,"NaN","NaN",-250,1800,2011,2020,null,-67.92,0.73,3,1020,4,-2,-250,1800,2011,2020,null,0.66,0,3,1020,50,4,-250,1800,2011,2020,null,5.99,0.84,3,1020,"NaN","NaN",-250,1800,2011,2020,null,-67.92,0.73]
[3,1040,2.2000000000000002,-4.4400000000000004,"NaN","NaN",600,-227.35,30,2011,2020,null,2020,-2.21,0.12,"2096-05-29",29,5,2096,">2031",187.03,"- - - - -",196.7,194.49,192.28,190.06,187.85,166.7,164.49,162.28,160.06,157.85,null,null,null,null,3,1040,"NaN","NaN",-250,1700,2011,2020,null,-64.790000000000006,0.5,3,1040,4,-2,-250,1700,2011,2020,null,9.86,0.23,3,1040,50,4,-250,1700,2011,2020,null,5.13,0.83,3,1040,"NaN","NaN",-250,1700,2011,2020,null,-64.790000000000006,0.5]
[3,1060,2.2000000000000002,-4.4400000000000004,"NaN","NaN",600,-223.4,22,2011,2020,null,2020,1.55,0.05,"NaN","NaN","NaN","NaN","-",166.54,"- - - - -",200.87,202.42,203.97,205.52,207.07,178.87,180.42,181.97,183.52,185.07,null,null,null,null,3,1060,"NaN","NaN",-255,1500,2011,2020,null,-4.32,0,3,1060,4,-2,-255,1500,2011,2020,null,18.05,0.4,3,1060,50,4,-255,1500,2011,2020,null,4.54,0.93,3,1060,"NaN","NaN",-255,1500,2011,2020,null,-4.32,0]
[3,1080,2.2000000000000002,-4.4400000000000004,"NaN","NaN","NaN",-222.29,38,2011,2020,null,2020,1.1499999999999999,0.03,"NaN","NaN","NaN","NaN","-",178.73,"- - - - -",194.39,195.55,196.7,197.85,199,156.38999999999999,157.55000000000001,158.69999999999999,159.85,161,null,null,null,null,3,1080,"NaN","NaN",-250,1600,2011,2020,null,20.329999999999998,0.08,3,1080,4,-2,-250,1600,2011,2020,null,20.96,0.45,3,1080,50,4,-250,1600,2011,2020,null,6.39,0.97,3,1080,"NaN","NaN",-250,1600,2011,2020,null,20.329999999999998,0.08]
[3,1100,2.2000000000000002,-4.4400000000000004,"NaN","NaN",3000,-216,32,2011,2020,null,2020,4.03,0.35,"NaN","NaN","NaN","NaN","-",191.24,"- - - - -",198.15,202.18,206.21,210.24,214.27,166.15,170.18,174.21,178.24,182.27,null,null,null,null,3,1100,"NaN","NaN",-250,1600,2011,2020,null,19.03,0.16,3,1100,4,-2,-250,1600,2011,2020,null,27.67,0.67,3,1100,50,4,-250,1600,2011,2020,null,5.67,0.98,3,1100,"NaN","NaN",-250,1600,2011,2020,null,19.03,0.16]
[3,1120,2.2000000000000002,-4.4400000000000004,"NaN","NaN",600,-219.36,2,2011,2020,null,2020,4.87,0.34,"NaN","NaN","NaN","NaN","-",148.9,"- - - - -",176.89,181.76,186.63,191.5,196.37,174.89,179.76,184.63,189.5,194.37,null,null,null,null,3,1120,"NaN","NaN",-265,1500,2011,2020,null,10.78,0.05,3,1120,4,-2,-265,1500,2011,2020,null,35.96,0.75,3,1120,50,4,-265,1500,2011,2020,null,6.59,0.98,3,1120,"NaN","NaN",-265,1500,2011,2020,null,10.78,0.05]
[3,1140,2.2000000000000002,-4.4400000000000004,"NaN","NaN",600,-229.27,-7,2011,2020,null,2020,5.07,0.48,"NaN","NaN","NaN","NaN","-",151.44,"- - - - -",163.06,168.13,173.21,178.28,183.35,170.06,175.13,180.21,185.28,190.35,null,null,null,null,3,1140,"NaN","NaN",-270,1500,2011,2020,null,26.75,0.28000000000000003,3,1140,4,-2,-270,1500,2012,2020,null,27.38,0.72,3,1140,50,4,-270,1500,2011,2020,null,8.6999999999999993,0.95,3,1140,"NaN","NaN",-270,1500,2011,2020,null,26.75,0.28000000000000003]
[3,1160,2.2000000000000002,-4.4400000000000004,"NaN","NaN",600,-233.81,-16,2011,2020,null,2020,5.26,0.54,"NaN","NaN","NaN","NaN","-",121.65,"- - - - -",141.32,146.58000000000001,151.85,157.11000000000001,162.37,157.32,162.58000000000001,167.85,173.11,178.37,null,null,null,null,3,1160,"NaN","NaN",-275,1500,2011,2020,null,31.43,0.36,3,1160,4,-2,-275,1500,2012,2020,null,29.09,0.68,3,1160,50,4,-275,1500,2011,2020,null,8.6199999999999992,0.98,3,1160,"NaN","NaN",-275,1500,2011,2020,null,31.43,0.36]
[3,1180,2.2000000000000002,-4.4400000000000004,"NaN","NaN",600,-236.5,-30,2011,2020,null,2020,5.53,0.66,"NaN","NaN","NaN","NaN","-",101.08,"- - - - -",123.65,129.18,134.71,140.24,145.78,153.65,159.18,164.71,170.24,175.78,null,null,null,null,3,1180,"NaN","NaN",-270,1410,2011,2020,null,33.9,0.43,3,1180,4,-2,-270,1410,2012,2020,null,34.270000000000003,0.84,3,1180,50,4,-270,1410,2011,2020,null,5.96,0.94,3,1180,"NaN","NaN",-270,1410,2011,2020,null,33.9,0.43]
[3,1200,2.2000000000000002,-4.4400000000000004,"NaN","NaN",3000,-236.59,-30,2011,2020,null,2020,5.79,0.74,"NaN","NaN","NaN","NaN","-",101.4,"- - - - -",112.39,118.18,123.97,129.76,135.54,142.38999999999999,148.18,153.97,159.76,165.54,null,null,null,null,3,1200,"NaN","NaN",-280,1500,2011,2020,null,37.46,0.5,3,1200,4,-2,-280,1500,2012,2020,null,42.07,0.92,3,1200,50,4,-280,1500,2011,2020,null,4.5199999999999996,0.91,3,1200,"NaN","NaN",-280,1500,2011,2020,null,37.46,0.5]
[3,1220,2.2000000000000002,-4.4400000000000004,"NaN","NaN",600,-238.61,-25,2011,2020,null,2020,7.35,0.82,"NaN","NaN","NaN","NaN","-",92.17,"- - - - -",105.08,112.43,119.78,127.13,134.47999999999999,130.08000000000001,137.43,144.78,152.13,159.47999999999999,null,null,null,null,3,1220,"NaN","NaN",-270,1480,2011,2020,null,47.93,0.52,3,1220,4,-2,-270,1480,2012,2020,null,44.93,0.93,3,1220,50,4,-270,1480,2011,2020,null,1.75,0.52,3,1220,"NaN","NaN",-270,1480,2011,2020,null,47.93,0.52]
[3,1240,2.2000000000000002,-4.4400000000000004,"NaN","NaN",600,-242.2,-34,2016,2020,null,2020,2.0299999999999998,0.19,"NaN","NaN","NaN","NaN","-",86.34,"- - - - -",84.01,86.03,88.06,90.08,92.11,118.01,120.03,122.06,124.08,126.11,null,null,null,null,3,1240,"NaN","NaN",-275,1450,2016,2020,null,17.649999999999999,0.3,3,1240,4,-2,-275,1450,2016,2020,null,7.98,0.12,3,1240,50,4,-275,1450,2011,2020,null,3.37,0.76,3,1240,"NaN","NaN",-275,1450,2016,2020,null,17.649999999999999,0.3]
[3,1260,2.2000000000000002,-4.4400000000000004,"NaN","NaN",600,-242.7,-25,2016,2020,null,2020,1.4,0.08,"NaN","NaN","NaN","NaN","-",68.67,"- - - - -",70.59,71.98,73.38,74.78,76.180000000000007,95.59,96.98,98.38,99.78,101.18,null,null,null,null,3,1260,"NaN","NaN",-284,1500,2016,2020,null,-38.32,0.35,3,1260,4,-2,-284,1500,2016,2020,null,18.38,0.44,3,1260,50,4,-284,1500,2011,2020,null,2.96,0.85,3,1260,"NaN","NaN",-284,1500,2016,2020,null,-38.32,0.35]
[3,1280,2.2000000000000002,-4.4400000000000004,"NaN","NaN",600,-242.86,-31,2016,2020,null,2020,5.0999999999999996,0.44,"NaN","NaN","NaN","NaN","-",70.94,"- - - - -",74.959999999999994,80.069999999999993,85.17,90.27,95.37,105.96,111.07,116.17,121.27,126.37,null,null,null,null,3,1280,"NaN","NaN",-285,1300,2016,2020,null,16.39,0.19,3,1280,4,-2,-285,1300,2016,2020,null,22.68,0.73,3,1280,50,4,-285,1300,2011,2020,null,2.64,0.78,3,1280,"NaN","NaN",-285,1300,2016,2020,null,16.39,0.19]
[3,1300,2.2000000000000002,-4.4400000000000004,"NaN","NaN",3000,-241.13,-38,2016,2020,null,2020,5.56,0.45,"NaN","NaN","NaN","NaN","-",86.3,"- - - - -",84.79,90.35,95.91,101.47,107.03,122.79,128.35,133.91,139.47,145.03,null,null,null,null,3,1300,"NaN","NaN",-285,1300,2016,2019,null,-33.15,0.14000000000000001,3,1300,4,-2,-285,1300,2016,2020,null,10.98,0.08,3,1300,50,4,-285,1300,2011,2020,null,7.7,0.91,3,1300,"NaN","NaN",-285,1300,2016,2019,null,-33.15,0.14000000000000001]
[3,1320,2.2000000000000002,-4.4400000000000004,"NaN","NaN",600,-240.6,-34,2016,2020,null,2020,8.1300000000000008,0.72,"NaN","NaN","NaN","NaN","-",81.58,{"$f":"\"- - - - -\"","v":"- - - - -"},83.63,91.75,99.88,108.01,116.13,117.63,125.75,133.88,142.01,150.13,null,null,null,null,3,1320,"NaN","NaN",-280,1300,2016,2019,null,-42.14,0.48,3,1320,4,-2,-280,1300,2016,2020,null,11.32,0.12,3,1320,50,4,-280,1300,2011,2020,null,4.68,0.69,3,1320,"NaN","NaN",-280,1300,2016,2019,null,-42.14,0.48]
[3,1340,2.2000000000000002,-4.4400000000000004,"NaN","NaN",600,-240.94,-34,2016,2020,null,2020,10.06,0.55000000000000004,"NaN","NaN","NaN","NaN","-",86.51,"- - - - -",84.26,94.32,104.37,114.43,124.49,118.26,128.32,138.37,148.43,158.49,null,null,null,null,3,1340,"NaN","NaN",-290,1300,2016,2019,null,-64.61,0.6,3,1340,4,-2,-290,1300,2016,2020,null,25.93,0.39,3,1340,50,4,-290,1300,2011,2020,null,4.32,0.71,3,1340,"NaN","NaN",-290,1300,2016,2019,null,-64.61,0.6]
[3,1360,2.2000000000000002,-4.4400000000000004,"NaN","NaN",600,-236.92,-41,2016,2020,null,2020,10.72,0.78,"NaN","NaN","NaN","NaN","-",89.16,"- - - - -",88.38,99.09,109.81,120.53,131.25,129.38,140.09,150.81,161.53,172.25,null,null,null,null,3,1360,"NaN","NaN",-290,1300,2016,2019,null,-43.82,0.8,3,1360,4,-2,-290,1300,2016,2020,null,33.36,0.54,3,1360,50,4,-290,1300,2011,2020,null,7.44,0.9,3,1360,"NaN","NaN",-290,1300,2016,2019,null,-43.82,0.8]
[3,1380,2.2000000000000002,-4.4400000000000004,"NaN","NaN",600,-234.29,-33,2016,2020,null,2020,9.8699999999999992,0.84,"NaN","NaN","NaN","NaN","-",83.05,"- - - - -",85.92,95.79,105.66,115.53,125.4,118.92,128.79,138.66,148.53,158.4,null,null,null,null,3,1380,"NaN","NaN",-290,1300,2016,2019,null,-20.92,7.0000000000000007E-2,3,1380,4,-2,-290,1300,2016,2020,null,26.12,0.53,3,1380,50,4,-290,1300,2011,2020,null,6.95,0.86,3,1380,"NaN","NaN",-290,1300,2016,2019,null,-20.92,7.0000000000000007E-2]
[3,1400,2.2000000000000002,-4.4400000000000004,"NaN","NaN",3000,-231.85,-33,2016,2020,null,2020,9.84,0.76,"NaN","NaN","NaN","NaN","-",65.47,"- - - - -",81.03,90.87,100.72,110.56,120.4,114.03,123.87,133.72,143.56,153.4,null,null,null,null,3,1400,"NaN","NaN",-280,1300,2016,2019,null,9.9700000000000006,0.09,3,1400,4,-2,-280,1300,2016,2020,null,36.42,0.77,3,1400,50,4,-280,1300,2011,2020,null,5.01,0.81,3,1400,"NaN","NaN",-280,1300,2016,2019,null,9.9700000000000006,0.09]
[3,1420,2.2000000000000002,-4.4400000000000004,"NaN","NaN",600,-226.43,-32,2016,2020,null,2020,12.24,0.93,"NaN","NaN","NaN","NaN","-",66.290000000000006,"- - - - -",82.2,94.44,106.68,118.92,131.16,114.2,126.44,138.68,150.91999999999999,163.16,null,null,null,null,3,1420,"NaN","NaN",-275,1300,2016,2019,null,18.32,0.62,3,1420,4,-2,-275,1300,2016,2020,null,49.81,0.89,3,1420,50,4,-275,1300,2011,2020,null,2.12,0.64,3,1420,"NaN","NaN",-275,1300,2016,2019,null,18.32,0.62]
[3,1440,2.2000000000000002,-4.4400000000000004,"NaN","NaN",600,-221.33,-35,2016,2020,null,2020,11.22,0.7,"NaN","NaN","NaN","NaN","-",51.63,"- - - - -",72.8,84.01,95.23,106.45,117.66,107.8,119.01,130.22999999999999,141.44999999999999,152.66,null,null,null,null,3,1440,"NaN","NaN",-275,1300,2016,2019,null,-14.63,0.05,3,1440,4,-2,-275,1300,2016,2020,null,60.36,0.97,3,1440,50,4,-275,1300,2011,2020,null,2.35,0.51,3,1440,"NaN","NaN",-275,1300,2016,2019,null,-14.63,0.05]
[3,1460,2.2000000000000002,-4.4400000000000004,"NaN","NaN",600,-216.75,-39,2016,2020,null,2020,8.07,0.93,"NaN","NaN","NaN","NaN","-",50.75,"- - - - -",59.1,67.17,75.239999999999995,83.3,91.37,98.1,106.17,114.24,122.3,130.37,null,null,null,null,3,1460,"NaN","NaN",-285,1300,2016,2019,null,-53.56,0.91,3,1460,4,-2,-285,1300,2016,2020,null,43.72,0.76,3,1460,50,4,-285,1300,2011,2020,null,4.7,0.95,3,1460,"NaN","NaN",-285,1300,2016,2019,null,-53.56,0.91]
[3,1480,2.2000000000000002,-4.4400000000000004,"NaN","NaN","NaN",-213.67,-28,2016,2020,null,2020,10.5,0.87,"NaN","NaN","NaN","NaN","-",44.74,"- - - - -",56.4,66.900000000000006,77.400000000000006,87.9,98.4,84.4,94.9,105.4,115.9,126.4,null,null,null,null,3,1480,"NaN","NaN",-270,1300,2016,2019,null,-77.39,0.78,3,1480,4,-2,-270,1300,2016,2020,null,20.47,0.51,3,1480,50,4,-270,1300,2011,2020,null,3.99,0.74,3,1480,"NaN","NaN",-270,1300,2016,2019,null,-77.39,0.78]
[3,1500,2.2000000000000002,-4.4400000000000004,"NaN","NaN",3000,-207.02,-24,2016,2020,null,2020,9.51,0.84,"NaN","NaN","NaN","NaN","-",39.97,"- - - - -",54.26,63.77,73.28,82.79,92.3,78.260000000000005,87.77,97.28,106.79,116.3,null,null,null,null,3,1500,"NaN","NaN",-280,1300,2016,2019,null,-117.14,0.86,3,1500,4,-2,-280,1300,2016,2020,null,19.37,0.57999999999999996,3,1500,50,4,-280,1300,2011,2020,null,3.13,0.65,3,1500,"NaN","NaN",-280,1300,2016,2019,null,-117.14,0.86]
[3,1520,2.2000000000000002,-4.4400000000000004,"NaN","NaN",620,-199.23,-22,2016,2020,null,2020,3.36,0.18,"NaN","NaN","NaN","NaN","-",20.94,"- - - - -",34.49,37.86,41.22,44.58,47.95,56.49,59.86,63.22,66.58,69.95,null,null,null,null,3,1520,"NaN","NaN",-285,1300,2016,2019,null,-89.18,0.69,3,1520,4,-2,-285,1300,2016,2020,null,-4.3899999999999997,0.02,3,1520,50,4,-285,1300,2011,2020,null,5.17,0.91,3,1520,"NaN","NaN",-285,1300,2016,2019,null,-89.18,0.69]
[3,1540,2.2000000000000002,-4.4400000000000004,"NaN","NaN",620,-189.74,-12,2016,2020,null,2020,0.59,0.03,"NaN","NaN","NaN","NaN","-",29.09,"- - - - -",29.48,30.07,30.66,31.25,31.84,41.48,42.07,42.66,43.25,43.84,null,null,null,null,3,1540,"NaN","NaN",-270,1300,2016,2019,null,-166.88,0.77,3,1540,4,-2,-270,1300,2016,2020,null,-4.53,0.02,3,1540,50,4,-270,1300,2011,2020,null,3.97,0.86,3,1540,"NaN","NaN",-270,1300,2016,2019,null,-166.88,0.77]
[3,1560,2.2000000000000002,-4.4400000000000004,"NaN","NaN",620,-180.65,-9,2016,2020,null,2020,0.17,0,"NaN","NaN","NaN","NaN","-",42.24,"- - - - -",40.28,40.450000000000003,40.61,40.78,40.94,49.28,49.45,49.61,49.78,49.94,null,null,null,null,3,1560,"NaN","NaN",-260,1300,2016,2019,null,-198.73,0.99,3,1560,4,-2,-260,1300,2016,2020,null,-11.27,0.54,3,1560,50,4,-260,1300,2011,2020,null,5.86,0.94,3,1560,"NaN","NaN",-260,1300,2016,2019,null,-198.73,0.99]
[3,1580,2.2000000000000002,-4.4400000000000004,"NaN","NaN",620,-180.66,-1,2016,2020,null,2020,-1.1100000000000001,0.1,"2055-12-05",5,12,2055,">2031",38.85,"- - - - -",37.6,36.49,35.39,34.28,33.18,38.6,37.49,36.39,35.28,34.18,null,null,null,null,3,1580,"NaN","NaN",-260,1300,2016,2019,null,-137.4,0.87,3,1580,4,-2,-260,1300,2016,2020,null,-23.11,0.69,3,1580,50,4,-260,1300,2011,2020,null,8.26,0.96,3,1580,"NaN","NaN",-260,1300,2016,2019,null,-137.4,0.87]
[3,1600,2.2000000000000002,-4.4400000000000004,"NaN","NaN",3000,-174.36,6,2016,2020,null,2020,-0.28999999999999998,0,"2148-08-16",16,8,2148,">2031",41.69,"- - - - -",43.37,43.07,42.78,42.49,42.2,37.369999999999997,37.07,36.78,36.49,36.200000000000003,null,null,null,null,3,1600,"NaN","NaN",-265,1300,2016,2019,null,-119.74,0.57999999999999996,3,1600,4,-2,-265,1300,2016,2020,null,-11.99,0.11,3,1600,50,4,-265,1300,2011,2020,null,7.54,0.93,3,1600,"NaN","NaN",-265,1300,2016,2019,null,-119.74,0.57999999999999996]
[3,1620,2.2000000000000002,-4.4400000000000004,"NaN","NaN",700,-172,7,2016,2020,null,2020,-2.81,0.13,"2034-04-07",7,4,2034,">2031",43.29,"- - - - -",44.29,41.48,38.67,35.86,33.049999999999997,37.29,34.479999999999997,31.67,28.86,26.05,null,null,null,null,3,1620,"NaN","NaN",-260,1300,2016,2019,null,-193.56,0.84,3,1620,4,-2,-260,1300,2016,2020,null,-29.51,0.85,3,1620,50,4,-260,1300,2011,2020,null,6.94,0.97,3,1620,"NaN","NaN",-260,1300,2016,2019,null,-193.56,0.84]
[3,1640,2.2000000000000002,-4.4400000000000004,"NaN","NaN",700,-169.03,10,2016,2020,null,2020,-5.62,0.65,"2024-10-07",7,10,2024,2024,38.409999999999997,"- - - - -",31.15,25.53,19.920000000000002,14.3,8.68,21.15,15.53,9.92,4.3,-1.32,null,null,null,null,3,1640,"NaN","NaN",-260,1300,2016,2019,null,-212.24,0.99,3,1640,4,-2,-260,1300,2016,2020,null,-28.95,0.87,3,1640,50,4,-260,1300,2011,2020,null,6.39,0.96,3,1640,"NaN","NaN",-260,1300,2016,2019,null,-212.24,0.99]
[3,1660,2.2000000000000002,-4.4400000000000004,"NaN","NaN",700,-166.84,7,2016,2020,null,2020,-2.48,0.22,"2031-06-01",1,6,2031,2031,41.78,"- - - - -",32.79,30.31,27.84,25.36,22.89,25.79,23.31,20.84,18.36,15.89,null,null,null,null,3,1660,"NaN","NaN",-245,1300,2016,2019,null,-222.92,0.98,3,1660,4,-2,-245,1300,2016,2020,null,-12.32,0.19,3,1660,50,4,-245,1300,2011,2020,null,8.11,0.93,3,1660,"NaN","NaN",-245,1300,2016,2019,null,-222.92,0.98]
[3,1680,2.2000000000000002,-4.4400000000000004,"NaN","NaN",700,-162.55000000000001,13,2016,2020,null,2020,-2.66,0.36,"2029-04-14",14,4,2029,2029,33.200000000000003,"- - - - -",35.03,32.369999999999997,29.71,27.05,24.39,22.03,19.37,16.71,14.05,11.39,null,null,null,null,3,1680,"NaN","NaN",-260,1400,2016,2019,null,-208.75,1,3,1680,4,-2,-260,1400,2016,2020,null,-9.24,0.14000000000000001,3,1680,50,4,-260,1400,2011,2020,null,9.83,0.98,3,1680,"NaN","NaN",-260,1400,2016,2019,null,-208.75,1]
[3,1700,2.2000000000000002,-4.4400000000000004,"NaN","NaN",3000,-165.25,20,2016,2020,null,2020,-6.25,0.72,"2021-10-16",16,10,2021,2021,35.020000000000003,"- - - - -",24.94,18.690000000000001,12.44,6.19,-0.05,4.9400000000000004,-1.31,-7.56,-13.81,-20.05,null,null,null,null,3,1700,"NaN","NaN",-275,1400,2016,2019,null,-185.63,0.95,3,1700,4,-2,-275,1400,2016,2020,null,-22.79,0.61,3,1700,50,4,-275,1400,2011,2020,null,7.18,0.93,3,1700,"NaN","NaN",-275,1400,2016,2019,null,-185.63,0.95]
[3,1720,2.2000000000000002,-4.4400000000000004,"NaN","NaN",700,-162.86000000000001,19,2012,2020,null,2020,-1.19,7.0000000000000007E-2,"2034-10-06",6,10,2034,">2031",31.48,"- - - - -",35.33,34.14,32.950000000000003,31.77,30.58,16.329999999999998,15.14,13.95,12.77,11.58,null,null,null,null,3,1720,"NaN","NaN",-260,1400,2012,2019,null,-42.52,0.25,3,1720,4,-2,-260,1400,2012,2020,null,9.6199999999999992,0.16,3,1720,50,4,-260,1400,2011,2020,null,5.79,0.96,3,1720,"NaN","NaN",-260,1400,2012,2019,null,-42.52,0.25]
[3,1740,2.2000000000000002,-4.4400000000000004,"NaN","NaN",700,-163,21,2012,2020,null,2020,-2.06,0.11,"2023-10-23",23,10,2023,2023,28.3,"- - - - -",26.77,24.72,22.66,20.61,18.55,5.77,3.72,1.66,-0.39,-2.4500000000000002,null,null,null,null,3,1740,"NaN","NaN",-255,1400,2012,2019,null,-61.47,0.57999999999999996,3,1740,4,-2,-255,1400,2012,2020,null,5.37,0.06,3,1740,50,4,-255,1400,2011,2020,null,5.31,0.8,3,1740,"NaN","NaN",-255,1400,2012,2019,null,-61.47,0.57999999999999996]
[3,1760,2.2000000000000002,-4.4400000000000004,"NaN","NaN",700,-165.71,24,2012,2020,null,2020,-1.59,0.1,"2021-02-20",20,2,2021,2021,28.3,"- - - - -",24.22,22.63,21.05,19.46,17.88,0.22,-1.37,-2.95,-4.54,-6.12,null,null,null,null,3,1760,"NaN","NaN",-260,1400,2012,2019,null,-78.84,0.77,3,1760,4,-2,-260,1400,2012,2020,null,6.41,0.11,3,1760,50,4,-260,1400,2011,2020,null,1.43,0.25,3,1760,"NaN","NaN",-260,1400,2012,2019,null,-78.84,0.77]
[3,1780,2.2000000000000002,-4.4400000000000004,"NaN","NaN",700,-165.54,19,2012,2020,null,2020,-1.98,0.17,"2023-04-16",16,4,2023,2023,35,"- - - - -",23.52,21.55,19.57,17.59,15.62,4.5199999999999996,2.5499999999999998,0.56999999999999995,-1.41,-3.38,null,null,null,null,3,1780,"NaN","NaN",-260,1400,2012,2019,null,-75.86,0.66,3,1780,4,-2,-260,1400,2012,2020,null,3.63,0.04,3,1780,50,4,-260,1400,2011,2020,null,3.34,0.55000000000000004,3,1780,"NaN","NaN",-260,1400,2012,2019,null,-75.86,0.66]
[3,1800,2.2000000000000002,-4.4400000000000004,"NaN","NaN",3000,-184.41,24,2012,2020,null,2020,-2.52,0.19,"Heden",18,8,2020,"-",42.44,{"$f":"\"1 - - - -\"","v":"1 - - - -"},23.07,20.54,18.02,15.5,12.98,-0.93,-3.46,-5.98,-8.5,-11.02,null,null,null,null,3,1800,"NaN","NaN",-260,1400,2012,2019,null,-92.95,0.71,3,1800,4,-2,-260,1400,2012,2020,null,0.99,0,3,1800,50,4,-260,1400,2011,2020,null,1.81,0.39,3,1800,"NaN","NaN",-260,1400,2012,2019,null,-92.95,0.71]
[3,1820,2.2000000000000002,-4.4400000000000004,"NaN","NaN",700,-198.85,22,2012,2020,null,2020,-3.86,0.3,"Heden",9,4,2019,"-",34.32,"1 - - - -",15.32,11.45,7.59,3.73,-0.13,-6.68,-10.55,-14.41,-18.27,-22.13,null,null,null,null,3,1820,"NaN","NaN",-250,1400,2012,2019,null,-97.1,0.88,3,1820,4,-2,-250,1400,2012,2020,null,-3.02,0.03,3,1820,50,4,-250,1400,2011,2020,null,3.97,0.71,3,1820,"NaN","NaN",-250,1400,2012,2019,null,-97.1,0.88]
[3,1840,2.2000000000000002,-4.4400000000000004,"NaN","NaN",700,-212.5,25,2012,2020,null,2020,-5.77,0.53,"Heden",31,7,2017,"-",20.48,"1 - - - -",5.24,-0.53,-6.31,-12.08,-17.86,-19.760000000000002,-25.53,-31.31,-37.08,-42.86,null,null,null,null,3,1840,"NaN","NaN",-250,1450,2012,2019,null,-86.49,0.7,3,1840,4,-2,-250,1450,2012,2020,null,-9.94,0.18,3,1840,50,4,-250,1450,2011,2020,null,1.18,0.22,3,1840,"NaN","NaN",-250,1450,2012,2019,null,-86.49,0.7]
[3,1860,2.2000000000000002,-4.4400000000000004,"NaN","NaN",700,-232,29,2012,2020,null,2020,-6.31,0.65,"Heden",15,2,2017,"-",0.78,"1 - - - -",4.5199999999999996,-1.79,-8.11,-14.42,-20.74,-24.48,-30.79,-37.11,-43.42,-49.74,null,null,null,null,3,1860,"NaN","NaN",-250,1450,2012,2019,null,-78.790000000000006,0.76,3,1860,4,-2,-250,1450,2012,2020,null,-12,0.23,3,1860,50,4,-250,1450,2011,2020,null,1.62,0.41,3,1860,"NaN","NaN",-250,1450,2012,2019,null,-78.790000000000006,0.76]
[3,1880,2.2000000000000002,-4.4400000000000004,"NaN","NaN",700,-254.48,37,2012,2020,null,2020,-5.7,0.57999999999999996,"Heden",6,1,2016,"-",3.23,"1 - - - -",8.57,2.87,-2.83,-8.5399999999999991,-14.24,-28.43,-34.130000000000003,-39.83,-45.54,-51.24,null,null,null,null,3,1880,"NaN","NaN",-255,1450,2012,2019,null,-81.81,0.87,3,1880,4,-2,-255,1450,2012,2020,null,-8.49,0.19,3,1880,50,4,-255,1450,2011,2020,null,1.4,0.27,3,1880,"NaN","NaN",-255,1450,2012,2019,null,-81.81,0.87]
[3,1900,2.2000000000000002,-4.4400000000000004,"NaN","NaN",3000,-273.44,38,2012,2020,null,2020,-5.71,0.72,"Heden",1,9,2016,"-",6.19,"1 - - - -",13.25,7.54,1.83,-3.88,-9.59,-24.75,-30.46,-36.17,-41.88,-47.59,null,null,null,null,3,1900,"NaN","NaN",-255,1450,2012,2019,null,-64.989999999999995,0.84,3,1900,4,-2,-255,1450,2012,2020,null,-4.1399999999999997,7.0000000000000007E-2,3,1900,50,4,-255,1450,2011,2020,null,1.0900000000000001,0.21,3,1900,"NaN","NaN",-255,1450,2012,2019,null,-64.989999999999995,0.84]
[3,1920,2.2000000000000002,-4.4400000000000004,"NaN","NaN",700,-270.7,39,2012,2020,null,2020,-5.5,0.68,"Heden",30,1,2016,"-",9.86,"1 - - - -",11.93,6.42,0.92,-4.59,-10.09,-27.07,-32.58,-38.08,-43.59,-49.09,null,null,null,null,3,1920,"NaN","NaN",-255,1220,2012,2019,null,-58,0.75,3,1920,4,-2,-255,1220,2012,2020,null,-8.16,0.31,3,1920,50,4,-255,1220,2011,2020,null,9.16,0.99,3,1920,"NaN","NaN",-255,1220,2012,2019,null,-58,0.75]
[3,1940,2.2000000000000002,-4.4400000000000004,"NaN","NaN",700,-297.64999999999998,45,2012,2020,null,2020,-5.82,0.65,"Heden",19,3,2015,"-",12.25,"1 - - - -",11.32,5.5,-0.32,-6.14,-11.96,-33.68,-39.5,-45.32,-51.14,-56.96,null,null,null,null,3,1940,"NaN","NaN",-255,1210,2012,2019,null,-68.2,0.79,3,1940,4,-2,-255,1210,2012,2020,null,-5.88,0.14000000000000001,3,1940,50,4,-255,1210,2011,2020,null,8.09,0.91,3,1940,"NaN","NaN",-255,1210,2012,2019,null,-68.2,0.79]
[3,1960,2.2000000000000002,-4.4400000000000004,"NaN","NaN",700,-303.57,52,2012,2020,null,2020,-6.19,0.71,"Heden",11,3,2014,"-",8.0399999999999991,"1 - - - -",9.85,3.66,-2.5299999999999998,-8.7200000000000006,-14.91,-42.15,-48.34,-54.53,-60.72,-66.91,null,null,null,null,3,1960,"NaN","NaN",-260,1220,2012,2019,null,-63.8,0.81,3,1960,4,-2,-260,1220,2012,2020,null,-7.84,0.25,3,1960,50,4,-260,1220,2011,2020,null,7.41,0.87,3,1960,"NaN","NaN",-260,1220,2012,2019,null,-63.8,0.81]
[3,1980,2.2000000000000002,-4.4400000000000004,"NaN","NaN",700,-294.31,59,2012,2020,null,2020,-5.89,0.6,"Heden",22,6,2013,"-",4.47,"1 - - - -",14.68,8.7899999999999991,2.9,-2.99,-8.8699999999999992,-44.32,-50.21,-56.1,-61.99,-67.87,null,null,null,null,3,1980,"NaN","NaN",-255,1300,2012,2019,null,-79.55,0.96,3,1980,4,-2,-255,1300,2012,2020,null,-7.15,0.17,3,1980,50,4,-255,1300,2011,2020,null,-0.78,0.03,3,1980,"NaN","NaN",-255,1300,2012,2019,null,-79.55,0.96]
[3,2000,2.2000000000000002,-4.4400000000000004,"NaN","NaN",3000,-306.47000000000003,58,2012,2020,null,2020,-4.83,0.57999999999999996,"Heden",28,4,2013,"-",18.05,"1 - - - -",20.96,16.13,11.31,6.48,1.65,-37.04,-41.87,-46.69,-51.52,-56.35,null,null,null,null,3,2000,"NaN","NaN",-255,1450,2012,2019,null,-65.53,0.84,3,2000,4,-2,-255,1450,2012,2020,null,-6.53,0.11,3,2000,50,4,-255,1450,2011,2020,null,4.4800000000000004,0.86,3,2000,"NaN","NaN",-255,1450,2012,2019,null,-65.53,0.84]
[3,2020,2.2000000000000002,-4.4400000000000004,"NaN","NaN",800,-249.05,102,2011,2020,null,2020,-2.95,0.37,"NaN","NaN","NaN","NaN","-",49.14,"1 - - - -",59.86,56.9,53.95,51,48.04,-42.14,-45.1,-48.05,-51,-53.96,null,null,null,null,3,2020,"NaN","NaN",-215,1950,2011,2019,null,-41.57,0.39,3,2020,4,-2,-215,1950,2011,2020,null,-7.52,0.4,3,2020,50,4,-215,1950,2011,2020,null,8.0299999999999994,0.97,3,2020,"NaN","NaN",-215,1950,2011,2019,null,-41.57,0.39]
[3,2040,2.2000000000000002,-4.4400000000000004,"NaN","NaN",800,-201.25,130,2011,2020,null,2020,-2.58,0.46,"NaN","NaN","NaN","NaN","-",91.85,"1 - - - -",94.73,92.15,89.58,87,84.42,-35.270000000000003,-37.85,-40.42,-43,-45.58,null,null,null,null,3,2040,"NaN","NaN",-185,1950,2011,2019,null,-56.49,0.44,3,2040,4,-2,-185,1950,2011,2020,null,-6.59,0.35,3,2040,50,4,-185,1950,2011,2020,null,3.5,0.67,3,2040,"NaN","NaN",-185,1950,2011,2019,null,-56.49,0.44]
[3,2060,2.2000000000000002,-4.4400000000000004,"NaN","NaN",820,-150.75,167,2011,2020,null,2020,-1.77,0.34,"NaN","NaN","NaN","NaN","-",133.66,"1 - - - -",131,129.22999999999999,127.46,125.69,123.92,-36,-37.770000000000003,-39.54,-41.31,-43.08,null,null,null,null,3,2060,"NaN","NaN",-150,1950,2011,2019,null,-42.12,0.61,3,2060,4,-2,-150,1950,2011,2020,null,-7.82,0.28999999999999998,3,2060,50,4,-150,1950,2011,2020,null,1.1000000000000001,0.56999999999999995,3,2060,"NaN","NaN",-150,1950,2011,2019,null,-42.12,0.61]
[3,2080,2.2000000000000002,-4.4400000000000004,"NaN","NaN",840,-101,195,2011,2020,null,2020,-1.45,0.4,"NaN","NaN","NaN","NaN","-",155.16,"1 - - - -",161.37,159.91999999999999,158.47,157.01,155.56,-33.630000000000003,-35.08,-36.53,-37.99,-39.44,null,null,null,null,3,2080,"NaN","NaN",-115,1950,2011,2019,null,-29.16,0.56000000000000005,3,2080,4,-2,-115,1950,2011,2020,null,-4.1900000000000004,0.25,3,2080,50,4,-115,1950,2011,2020,null,-0.44,0.03,3,2080,"NaN","NaN",-115,1950,2011,2019,null,-29.16,0.56000000000000005]
[3,2100,2.2000000000000002,-4.4400000000000004,"NaN","NaN",900,-42,223,2011,2020,null,2020,-0.22,0.02,"NaN","NaN","NaN","NaN","-",194.11,"1 - - - -",197.99,197.77,197.55,197.33,197.11,-25.01,-25.23,-25.45,-25.67,-25.89,null,null,null,null,3,2100,"NaN","NaN",-80,1950,2011,2019,null,-12.6,0.16,3,2100,4,-2,-80,1950,2011,2020,null,-0.72,0,3,2100,50,4,-80,1950,2011,2020,null,1.85,0.14000000000000001,3,2100,"NaN","NaN",-80,1950,2011,2019,null,-12.6,0.16]
[3,2120,2.2000000000000002,-4.4400000000000004,"NaN","NaN",920,2.2200000000000002,257,2011,2020,null,2020,0.84,0.2,"Heden",2,5,2055,"-",230.53,"1 - - - -",228.04,228.88,229.73,230.57,231.41,-28.96,-28.12,-27.27,-26.43,-25.59,null,null,null,null,3,2120,"NaN","NaN",-70,1950,2011,2019,null,-15.78,0.12,3,2120,4,-2,-70,1950,2011,2020,null,-0.98,0.01,3,2120,50,4,-70,1950,2011,2020,null,0.41,0.01,3,2120,"NaN","NaN",-70,1950,2011,2019,null,-15.78,0.12]
[3,2140,2.2000000000000002,-4.4400000000000004,"NaN","NaN",960,36.840000000000003,283,2011,2020,null,2020,1.07,0.19,"Heden",27,10,2045,"-",263.70999999999998,"1 - - - -",256.41000000000003,257.48,258.55,259.62,260.69,-26.59,-25.52,-24.45,-23.38,-22.31,null,null,null,null,3,2140,"NaN","NaN",-45,1950,2011,2019,null,-12.61,7.0000000000000007E-2,3,2140,4,-2,-45,1950,2011,2020,null,-0.69,0,3,2140,50,4,-45,1950,2011,2020,null,2.17,0.51,3,2140,"NaN","NaN",-45,1950,2011,2019,null,-12.61,7.0000000000000007E-2]
[3,2160,2.2000000000000002,-4.4400000000000004,"NaN","NaN",980,56.8,307,2011,2020,null,2020,1.99,0.32,"Heden",22,3,2030,"-",298.75,"1 - - - -",288.67,290.66000000000003,292.64999999999998,294.64,296.62,-18.329999999999998,-16.34,-14.35,-12.36,-10.38,null,null,null,null,3,2160,"NaN","NaN",0,1950,2011,2019,null,-15.53,0.22,3,2160,4,-2,0,1950,2011,2020,null,-2.2599999999999998,0.02,3,2160,50,4,0,1950,2011,2020,null,-3.71,0.73,3,2160,"NaN","NaN",0,1950,2011,2019,null,-15.53,0.22]
[3,2180,2.2000000000000002,-4.4400000000000004,"NaN","NaN",1000,109.74,326,2011,2020,null,2020,2.39,0.35,"Heden",4,8,2025,"-",328.88,"1 - - - -",315.04000000000002,317.42,319.81,322.2,324.58999999999997,-10.96,-8.58,-6.19,-3.8,-1.41,null,null,null,null,3,2180,"NaN","NaN",25,1950,2011,2019,null,-18.690000000000001,0.44,3,2180,4,-2,25,1950,2011,2020,null,-0.21,0,3,2180,50,4,25,1950,2011,2020,null,-6.17,0.85,3,2180,"NaN","NaN",25,1950,2011,2019,null,-18.690000000000001,0.44]
[3,2200,2.2000000000000002,-4.4400000000000004,"NaN","NaN",1020,105.77,360,2011,2020,null,2020,1.82,0.27,"Heden",3,8,2033,"-",349.06,"1 - - - -",337.09,338.91,340.73,342.55,344.37,-22.91,-21.09,-19.27,-17.45,-15.63,null,null,null,null,3,2200,"NaN","NaN",50,1950,2011,2019,null,-8.84,0.22,3,2200,4,-2,50,1950,2011,2020,null,1.23,0.01,3,2200,50,4,50,1950,2011,2020,null,-3.53,0.49,3,2200,"NaN","NaN",50,1950,2011,2019,null,-8.84,0.22]
[3,2220,2.2000000000000002,-4.4400000000000004,"NaN","NaN",1060,70.33,360,2011,2020,null,2020,2.19,0.43,"NaN",27,12,2015,"-",378.58,{"$f":"\"- - - - -\"","v":"- - - - -"},370.96,373.14,375.33,377.52,379.7,10.96,13.14,15.33,17.52,19.7,null,null,null,null,3,2220,"NaN","NaN",70,1950,2011,2019,null,-6.34,0.05,3,2220,4,-2,70,1950,2011,2020,null,3.63,0.08,3,2220,50,4,70,1950,2011,2020,null,0.25,0,3,2220,"NaN","NaN",70,1950,2011,2019,null,-6.34,0.05]
[3,2240,2.2000000000000002,-4.4400000000000004,"NaN","NaN",1100,32.31,390,2011,2020,null,2020,1.39,0.22,"NaN",20,6,2012,"-",411.24,{"$f":"\"- - - - -\"","v":"- - - - -"},401.85,403.24,404.63,406.02,407.41,11.85,13.24,14.63,16.02,17.41,null,null,null,null,3,2240,"NaN","NaN",85,1950,2011,2019,null,-18.13,0.4,3,2240,4,-2,85,1950,2011,2020,null,0.97,0,3,2240,50,4,85,1950,2011,2020,null,-0.4,0.02,3,2240,"NaN","NaN",85,1950,2011,2019,null,-18.13,0.4]
[3,2260,2.2000000000000002,-4.4400000000000004,"NaN","NaN",1140,"NaN",350,2011,2020,null,2020,0.44,0.05,"NaN","NaN","NaN","NaN","-",433.92,{"$f":"\"- - - - -\"","v":"- - - - -"},426.37,426.81,427.25,427.68,428.12,76.37,76.81,77.25,77.680000000000007,78.12,null,null,null,null,3,2260,"NaN","NaN",100,1950,2011,2019,null,-21.69,0.65,3,2260,4,-2,100,1950,2011,2020,null,-0.73,0,3,2260,50,4,100,1950,2011,2020,null,3.5,0.73,3,2260,"NaN","NaN",100,1950,2011,2019,null,-21.69,0.65]
[3,2280,2.2000000000000002,-4.4400000000000004,"NaN","NaN",1180,11.11,300,2011,2020,null,2020,1.01,0.13,"NaN","NaN","NaN","NaN","-",464.84,{"$f":"\"- - - - -\"","v":"- - - - -"},458.99,460,461.01,462.02,463.02,158.99,160,161.01,162.02000000000001,163.02000000000001,null,null,null,null,3,2280,"NaN","NaN",90,1950,2011,2019,null,-3.77,0.06,3,2280,4,-2,90,1950,2011,2020,null,5.86,0.25,3,2280,50,4,90,1950,2011,2020,null,10.19,0.97,3,2280,"NaN","NaN",90,1950,2011,2020,null,17.78,0.19]
[3,4800,2.2000000000000002,-4.4400000000000004,"NaN",500,500,76.239999999999995,183,2011,2020,null,2020,-0.56999999999999995,0.4,"2041-04-22",22,4,2041,">2031",197.35,{"$f":"\"- - - - -\"","v":"- - - - -"},194.67,194.09,193.52,192.94,192.37,11.67,11.09,10.52,9.94,9.3699999999999992,null,null,null,null,3,4800,"NaN","NaN",20,900,2011,2017,null,-106.01,0.87,3,4800,4,-2,20,900,2011,2016,null,-2.8,0.3,3,4800,50,4,20,900,2011,2020,null,-2.93,0.9,3,4800,"NaN","NaN",20,900,2011,2017,null,-106.01,0.87]
[3,4820,2.2000000000000002,-4.4400000000000004,"NaN",900,900,89.88,201,2011,2020,2012,2014,2015,2020,2011,2020,-0.17,0.2,"2120-01-28",28,1,2120,">2031",215.48,{"$f":"\"- - - - -\"","v":"- - - - -"},218.01,217.84,217.67,217.5,217.32,17.010000000000002,16.84,16.670000000000002,16.5,16.32,3,4820,"NaN","NaN",80,900,2011,2017,null,-115.73,0.79,3,4820,4,-2,80,900,2011,2016,2011,2012,2015,3,4820,50,4,80,900,2011,2020,null,0.52,0.1,3,4820,"NaN","NaN",80,900,2011,2017,2011,2012,2014,2015,2020,-157.13,1]
[3,4840,2.2000000000000002,-4.4400000000000004,"NaN",900,900,85.54,210,2011,2020,null,2020,1.8,0.7,"NaN",3,3,2011,"-",219.95,{"$f":"\"- - - - -\"","v":"- - - - -"},227.69,229.49,231.29,233.09,234.89,17.690000000000001,19.489999999999998,21.29,23.09,24.89,null,null,null,null,3,4840,"NaN","NaN",75,950,2011,2020,null,23.95,0.04,3,4840,4,-2,75,950,2011,2020,null,8.44,0.62,3,4840,50,4,75,950,2011,2020,null,0.34,0.01,3,4840,"NaN","NaN",75,950,2011,2020,null,23.95,0.04]
[3,4860,2.2000000000000002,-4.4400000000000004,"NaN",900,900,103.7,201,2011,2020,null,2020,0.76,0.56999999999999995,"NaN","NaN","NaN","NaN","-",211.78,"- - - - -",216.34,217.1,217.87,218.63,219.39,15.34,16.100000000000001,16.87,17.63,18.39,null,null,null,null,3,4860,"NaN","NaN",75,950,2011,2020,null,17.03,0.03,3,4860,4,-2,75,950,2011,2020,null,2.99,0.56999999999999995,3,4860,50,4,75,950,2011,2020,null,7.0000000000000007E-2,0,3,4860,"NaN","NaN",75,950,2011,2020,null,17.03,0.03]
[3,4880,2.2000000000000002,-4.4400000000000004,"NaN",1000,1000,78.680000000000007,179,2011,2020,null,2020,0.83,0.44,"NaN","NaN","NaN","NaN","-",195.38,"- - - - -",201.11,201.94,202.77,203.59,204.42,22.11,22.94,23.77,24.59,25.42,null,null,null,null,3,4880,"NaN","NaN",35,1000,2011,2020,null,34.5,0.12,3,4880,4,-2,35,1000,2011,2020,null,4.92,0.51,3,4880,50,4,35,1000,2011,2020,null,3.28,0.79,3,4880,"NaN","NaN",35,1000,2011,2020,null,34.5,0.12]
[3,4900,2.2000000000000002,-4.4400000000000004,"NaN",1000,1000,40,140,2011,2020,null,2020,1.67,0.71,"NaN","NaN","NaN","NaN","-",178.21,"- - - - -",183.37,185.04,186.71,188.38,190.05,43.37,45.04,46.71,48.38,50.05,null,null,null,null,3,4900,"NaN","NaN",-15,1000,2011,2020,null,41.05,0.14000000000000001,3,4900,4,-2,-15,1000,2011,2020,null,8.68,0.67,3,4900,50,4,-15,1000,2011,2020,null,4.51,0.83,3,4900,"NaN","NaN",-15,1000,2011,2020,null,41.05,0.14000000000000001]
[3,4901,2.2000000000000002,-4.4400000000000004,"NaN",1000,1000,"NaN",142,2011,2020,null,2020,1.84,0.73,"NaN","NaN","NaN","NaN","-",178.15,"- - - - -",183.59,185.43,187.28,189.12,190.96,41.59,43.43,45.28,47.12,48.96,null,null,null,null,3,4901,"NaN","NaN",-15,1000,2011,2020,null,43.87,0.18,3,4901,4,-2,-15,1000,2011,2020,null,8.8800000000000008,0.66,3,4901,50,4,-15,1000,2011,2020,null,4.5199999999999996,0.88,3,4901,"NaN","NaN",-15,1000,2011,2020,null,43.87,0.18]
[3,4902,2.2000000000000002,-4.4400000000000004,"NaN",1000,1000,"NaN",141,2011,2020,null,2020,1.97,0.75,"NaN","NaN","NaN","NaN","-",181.16,"- - - - -",185.94,187.91,189.89,191.86,193.84,44.94,46.91,48.89,50.86,52.84,null,null,null,null,3,4902,"NaN","NaN",-15,950,2011,2020,null,45.24,0.16,3,4902,4,-2,-15,950,2011,2020,null,9.25,0.67,3,4902,50,4,-15,950,2011,2020,null,4.21,0.85,3,4902,"NaN","NaN",-15,950,2011,2020,null,45.24,0.16]
[3,4916,2.2000000000000002,-4.4400000000000004,"NaN",1000,1000,54.09,149,2011,2020,null,2020,2.2400000000000002,0.56999999999999995,"NaN","NaN","NaN","NaN","-",199.13,"- - - - -",197.43,199.67,201.9,204.14,206.37,48.43,50.67,52.9,55.14,57.37,null,null,null,null,3,4916,"NaN","NaN",-5,920,2011,2020,null,28.4,0.09,3,4916,4,-2,-5,920,2011,2020,null,7.41,0.43,3,4916,50,4,-5,920,2011,2020,null,5.84,0.96,3,4916,"NaN","NaN",-5,920,2011,2020,null,28.4,0.09]
[3,4928,2.2000000000000002,-4.4400000000000004,"NaN",1000,1000,55.78,146,2011,2020,null,2020,1.36,0.16,"NaN","NaN","NaN","NaN","-",200.15,"- - - - -",190.61,191.96,193.32,194.68,196.04,44.61,45.96,47.32,48.68,50.04,null,null,null,null,3,4928,"NaN","NaN",-5,900,2011,2020,null,15.92,0.03,3,4928,4,-2,-5,900,2011,2020,null,2.4900000000000002,0.04,3,4928,50,4,-5,900,2011,2020,null,5.58,0.95,3,4928,"NaN","NaN",-5,900,2011,2020,null,15.92,0.03]
[3,4941,2.2000000000000002,-4.4400000000000004,"NaN",1000,1000,52.05,144,2011,2020,null,2020,2.1800000000000002,0.28999999999999998,"NaN","NaN","NaN","NaN","-",199.19,"- - - - -",186.43,188.61,190.78,192.96,195.14,42.43,44.61,46.78,48.96,51.14,null,null,null,null,3,4941,"NaN","NaN",-35,900,2011,2020,null,5.29,0,3,4941,4,-2,-35,900,2011,2020,null,7.42,0.3,3,4941,50,4,-35,900,2011,2020,null,7.02,0.88,3,4941,"NaN","NaN",-35,900,2011,2020,null,5.29,0]
[3,4953,2.2000000000000002,-4.4400000000000004,"NaN",1000,1000,36.270000000000003,109,2011,2020,null,2020,3.51,0.41,"NaN","NaN","NaN","NaN","-",201.42,"- - - - -",178.19,181.7,185.21,188.71,192.22,69.19,72.7,76.209999999999994,79.709999999999994,83.22,null,null,null,null,3,4953,"NaN","NaN",-70,900,2011,2020,null,-29.69,0.11,3,4953,4,-2,-70,900,2011,2020,null,15.62,0.53,3,4953,50,4,-70,900,2011,2020,null,3.95,0.61,3,4953,"NaN","NaN",-70,900,2011,2020,null,-29.69,0.11]
[3,4966,2.2000000000000002,-4.4400000000000004,"NaN",1000,1000,1.89,64,2011,2020,null,2020,4.63,0.51,"NaN","NaN","NaN","NaN","-",187.93,"- - - - -",160.72999999999999,165.36,169.99,174.62,179.25,96.73,101.36,105.99,110.62,115.25,null,null,null,null,3,4966,"NaN","NaN",-100,900,2011,2020,null,-28.52,0.13,3,4966,4,-2,-100,900,2011,2020,null,17.12,0.53,3,4966,50,4,-100,900,2011,2020,null,8.18,0.96,3,4966,"NaN","NaN",-100,900,2011,2020,null,-28.52,0.13]

{"sheet":"Overview","index":2,"n_rows":138,"n_cols":45,"rows_kept":138,"cut":false,"hidden":false,"merged":[]}
["Kustvak","Raai","Bovengrens [m+NAP]","Ondergrens [m+NAP]","Landwaartse grens [m+RSP]","Zeewaartse grens [m+RSP]","BKL","Beginjaar(trend)","Eindjaar(trend)","Uitgesloten jaren","Trend [m/jaar]","R2","Tijdstip waarop BKL wordt gepasseerd (datum)","Jaar waarop BKL wordt doorsneden","TKL [m+RSP]","TKL [m+RSP]","TKL [m+RSP]","TKL [m+RSP]","TKL [m+RSP]","Verschil TKL-BKL [m]","Verschil TKL-BKL [m]","Verschil TKL-BKL [m]","Verschil TKL-BKL [m]","Verschil TKL-BKL [m]",null,null,"Volume Diep",null,null,null,null,"Volume Strand",null,null,null,null,"Volume Duin",null,null,null,null,"Volume Totaal"]
[null,null,null,null,null,null,null,null,null,null,null,null,null,null,"2021-01-01","2022-01-01","2023-01-01","2024-01-01","2025-01-01","2021-01-01","2022-01-01","2023-01-01","2024-01-01","2025-01-01"]
[null,null,null,null,null,null,null,null,null,null,null,null,null,null,0,0,0,0,0,2021,2022,2023,2024,2025,null,null,"Beginjaar (trend)","Eindjaar (trend)","Uitgesloten jaren","Trend [m3/m/jaar]",null,"Beginjaar (trend)","Eindjaar (trend)","Uitgesloten jaren","Trend [m3/m/jaar]",null,"Beginjaar (trend)","Eindjaar (trend)","Uitgesloten jaren","Trend [m3/m/jaar]",null,"Beginjaar (trend)","Eindjaar (trend)","Uitgesloten jaren","Trend [m3/m/jaar]"]
[3,100,2.2000000000000002,-4.4400000000000004,"NaN",950,19,2011,2020,null,5.65,0.66,"NaN","-",133.13999999999999,138.79,144.44999999999999,150.1,155.75,{"$f":"Input!AB6","v":114.14},{"$f":"Input!AC6","v":119.79},{"$f":"Input!AD6","v":125.45},{"$f":"Input!AE6","v":131.1},{"$f":"Input!AF6","v":136.75},null,null,2011,2020,null,24.69,null,2011,2020,null,16.899999999999999,null,2011,2020,null,22.68,null,2011,2020,null,24.69]
[3,101,2.2000000000000002,-4.4400000000000004,"NaN",950,19,2011,2020,null,5.1100000000000003,0.69,"NaN","-",125.99,131.1,136.21,141.31,146.41999999999999,{"$f":"Input!AB7","v":106.99},{"$f":"Input!AC7","v":112.1},{"$f":"Input!AD7","v":117.21},{"$f":"Input!AE7","v":122.31},{"$f":"Input!AF7","v":127.42},null,null,2011,2020,null,-2.69,null,2011,2020,null,15.99,null,2011,2020,null,-10.42,null,2011,2020,null,-2.69]
[3,102,2.2000000000000002,-4.4400000000000004,"NaN",950,23,2011,2020,null,5,0.69,"NaN","-",122.94,127.94,132.94,137.94,142.93,{"$f":"Input!AB8","v":99.94},{"$f":"Input!AC8","v":104.94},{"$f":"Input!AD8","v":109.94},{"$f":"Input!AE8","v":114.94},{"$f":"Input!AF8","v":119.93},null,null,2011,2020,null,5.83,null,2011,2020,null,15.71,null,2011,2020,null,-0.84,null,2011,2020,null,5.83]
[3,103,2.2000000000000002,-4.4400000000000004,"NaN",1000,21,2011,2020,null,4.8,0.71,"NaN","-",122.2,127,131.80000000000001,136.59,141.38999999999999,{"$f":"Input!AB9","v":101.2},{"$f":"Input!AC9","v":106},{"$f":"Input!AD9","v":110.8},{"$f":"Input!AE9","v":115.59},{"$f":"Input!AF9","v":120.39},null,null,2011,2020,null,4.58,null,2011,2020,null,15.76,null,2011,2020,null,7.54,null,2011,2020,null,4.58]
[3,104,2.2000000000000002,-4.4400000000000004,"NaN",1000,28,2011,2020,null,4.6100000000000003,0.75,"NaN","-",121.24,125.85,130.46,135.07,139.68,{"$f":"Input!AB10","v":93.24},{"$f":"Input!AC10","v":97.85},{"$f":"Input!AD10","v":102.46},{"$f":"Input!AE10","v":107.07},{"$f":"Input!AF10","v":111.68},null,null,2011,2020,null,-9.17,null,2011,2020,null,15.61,null,2011,2020,null,7.72,null,2011,2020,null,-9.17]
[3,120,2.2000000000000002,-4.4400000000000004,"NaN",1150,93,2011,2019,null,2.15,0.49,"NaN","-",150.5,152.65,154.81,156.96,159.11000000000001,{"$f":"Input!AB11","v":57.5},{"$f":"Input!AC11","v":59.65},{"$f":"Input!AD11","v":61.81},{"$f":"Input!AE11","v":63.96},{"$f":"Input!AF11","v":66.11},null,null,2011,2020,null,-12.42,null,2011,2018,null,3.3,null,2011,2020,null,16.36,null,2011,2019,null,3.71]
[3,140,2.2000000000000002,-4.4400000000000004,"NaN",1200,94,2016,2019,null,-0.3,0.56000000000000005,"2242-11-13",">2031",160.61000000000001,160.31,160.01,159.71,159.41,{"$f":"Input!AB12","v":66.61},{"$f":"Input!AC12","v":66.31},{"$f":"Input!AD12","v":66.010000000000005},{"$f":"Input!AE12","v":65.709999999999994},{"$f":"Input!AF12","v":65.41},null,null,2011,2020,null,-13.09,null,2016,2018,null,-46.78,null,2011,2020,null,18.36,null,2016,2019,null,-359.22]
[3,200,2.2000000000000002,-4.4400000000000004,"NaN",1300,165,2016,2019,null,1.29,0.43,"Heden","-",148.71,150,151.29,152.58000000000001,153.86000000000001,{"$f":"Input!AB13","v":-16.29},{"$f":"Input!AC13","v":-15},{"$f":"Input!AD13","v":-13.71},{"$f":"Input!AE13","v":-12.42},{"$f":"Input!AF13","v":-11.14},null,null,2011,2020,null,4.88,null,2016,2018,null,-37.51,null,2011,2020,null,4.63,null,2016,2019,null,-278.08]
[3,201,2.2000000000000002,-4.4400000000000004,"NaN",1400,160,2016,2019,null,2.74,0.49,"Heden","-",148.05000000000001,150.78,153.52000000000001,156.26,158.99,{"$f":"Input!AB14","v":-11.95},{"$f":"Input!AC14","v":-9.2200000000000006},{"$f":"Input!AD14","v":-6.48},{"$f":"Input!AE14","v":-3.74},{"$f":"Input!AF14","v":-1.01},null,null,2011,2020,null,30.56,null,2016,2018,null,-33.43,null,2011,2020,null,5.4,null,2016,2019,null,-175.2]
[3,202,2.2000000000000002,-4.4400000000000004,"NaN",1500,170,2016,2019,null,2.4900000000000002,0.39,"Heden","-",148.46,150.94999999999999,153.44,155.94,158.43,{"$f":"Input!AB15","v":-21.54},{"$f":"Input!AC15","v":-19.05},{"$f":"Input!AD15","v":-16.559999999999999},{"$f":"Input!AE15","v":-14.06},{"$f":"Input!AF15","v":-11.57},null,null,2011,2020,null,151.13,null,2016,2018,null,-37.15,null,2011,2020,null,5.83,null,2016,2019,null,-27.16]
[3,203,2.2000000000000002,-4.4400000000000004,"NaN",1520,190,2016,2019,null,3.1,0.77,"Heden","-",153.97999999999999,157.08000000000001,160.18,163.28,166.38,{"$f":"Input!AB16","v":-36.020000000000003},{"$f":"Input!AC16","v":-32.92},{"$f":"Input!AD16","v":-29.82},{"$f":"Input!AE16","v":-26.72},{"$f":"Input!AF16","v":-23.62},null,null,2011,2020,null,274.75,null,2016,2018,null,-43.13,null,2011,2020,null,10.51,null,2016,2019,null,210.32]
[3,204,2.2000000000000002,-4.4400000000000004,"NaN",600,210,2016,2019,null,2.71,0.41,"Heden","-",163.51,166.22,168.93,171.64,174.35,{"$f":"Input!AB17","v":-46.49},{"$f":"Input!AC17","v":-43.78},{"$f":"Input!AD17","v":-41.07},{"$f":"Input!AE17","v":-38.36},{"$f":"Input!AF17","v":-35.65},null,null,2011,2020,null,338.12,null,2016,2018,null,-53.63,null,2011,2020,null,17.16,null,2016,2019,null,414.29]
[3,220,2.2000000000000002,-4.4400000000000004,"NaN",600,360,2016,2019,null,-6.06,0.93,"NaN","-",259.62,253.56,247.5,241.44,235.38,{"$f":"Input!AB18","v":-100.38},{"$f":"Input!AC18","v":-106.44},{"$f":"Input!AD18","v":-112.5},{"$f":"Input!AE18","v":-118.56},{"$f":"Input!AF18","v":-124.62},null,null,2011,2020,null,490.67,null,2016,2018,null,-89.18,null,2011,2020,null,6.56,null,2016,2019,null,1030.9100000000001]
[3,240,2.2000000000000002,-4.4400000000000004,"NaN",600,440,2016,2018,null,-5.73,0.99,"NaN","-",318.02,312.27999999999997,306.55,300.82,295.08,{"$f":"Input!AB19","v":-121.98},{"$f":"Input!AC19","v":-127.72},{"$f":"Input!AD19","v":-133.44999999999999},{"$f":"Input!AE19","v":-139.18},{"$f":"Input!AF19","v":-144.91999999999999},null,null,2016,2018,null,550.07000000000005,null,2016,2018,null,-74.83,null,2011,2020,null,6.99,null,2016,2018,null,550.07000000000005]
[3,260,2.2000000000000002,-4.4400000000000004,"NaN",600,450,2016,2018,null,-22.33,0.98,"NaN","-",319.39999999999998,297.07,274.74,252.41,230.08,{"$f":"Input!AB20","v":-130.6},{"$f":"Input!AC20","v":-152.93},{"$f":"Input!AD20","v":-175.26},{"$f":"Input!AE20","v":-197.59},{"$f":"Input!AF20","v":-219.92},null,null,2016,2018,null,23.59,null,2016,2018,null,-149.77000000000001,null,2011,2020,null,3.03,null,2016,2018,null,23.59]
[3,280,2.2000000000000002,-4.4400000000000004,"NaN",600,450,2016,2018,null,-30.61,1,"Heden","-",308.88,278.27,247.66,217.05,186.44,{"$f":"Input!AB21","v":-141.12},{"$f":"Input!AC21","v":-171.73},{"$f":"Input!AD21","v":-202.34},{"$f":"Input!AE21","v":-232.95},{"$f":"Input!AF21","v":-263.56},null,null,2016,2018,null,-281.27999999999997,null,2016,2018,null,-197.37,null,2011,2020,null,-13.11,null,2016,2018,null,-281.27999999999997]
[3,300,2.2000000000000002,-4.4400000000000004,"NaN",3000,455,2016,2018,null,-39.97,1,"Heden","-",362.98,323.01,283.04000000000002,243.08,203.11,{"$f":"Input!AB22","v":-92.02},{"$f":"Input!AC22","v":-131.99},{"$f":"Input!AD22","v":-171.96},{"$f":"Input!AE22","v":-211.92},{"$f":"Input!AF22","v":-251.89},null,null,2016,2018,null,-364.78,null,2016,2018,null,-239.9,null,2011,2020,null,-12.77,null,2016,2018,null,-364.78]
[3,301,2.2000000000000002,-4.4400000000000004,"NaN",3000,460,2016,2018,null,-28.8,1,"NaN","-",311.81,283,254.2,225.39,196.59,{"$f":"Input!AB23","v":-148.19},{"$f":"Input!AC23","v":-177},{"$f":"Input!AD23","v":-205.8},{"$f":"Input!AE23","v":-234.61},{"$f":"Input!AF23","v":-263.41000000000003},null,null,2016,2018,null,-324.3,null,2016,2018,null,-244.78,null,2011,2020,null,-13.01,null,2016,2018,null,-324.3]
[3,302,2.2000000000000002,-4.4400000000000004,"NaN",3000,465,2016,2018,null,-35.26,0.97,"Heden","-",328.15,292.89,257.64,222.38,187.12,{"$f":"Input!AB24","v":-136.85},{"$f":"Input!AC24","v":-172.11},{"$f":"Input!AD24","v":-207.36},{"$f":"Input!AE24","v":-242.62},{"$f":"Input!AF24","v":-277.88},null,null,2016,2018,null,-381.44,null,2016,2018,null,-248.18,null,2011,2020,null,-11.81,null,2016,2018,null,-381.44]
[3,303,2.2000000000000002,-4.4400000000000004,"NaN",3000,475,2016,2018,null,-20.149999999999999,0.98,"Heden","-",404.12,383.97,363.82,343.67,323.52999999999997,{"$f":"Input!AB25","v":-70.88},{"$f":"Input!AC25","v":-91.03},{"$f":"Input!AD25","v":-111.18},{"$f":"Input!AE25","v":-131.33000000000001},{"$f":"Input!AF25","v":-151.47},null,null,2016,2018,null,-257.76,null,2016,2018,null,-259.2,null,2011,2020,null,-16.38,null,2016,2018,null,-257.76]
[3,304,2.2000000000000002,-4.4400000000000004,"NaN",3000,480,2016,2018,null,-19.7,0.83,"Heden","-",448.89,429.19,409.5,389.8,370.1,{"$f":"Input!AB26","v":-31.11},{"$f":"Input!AC26","v":-50.81},{"$f":"Input!AD26","v":-70.5},{"$f":"Input!AE26","v":-90.2},{"$f":"Input!AF26","v":-109.9},null,null,2016,2018,null,-210.62,null,2016,2018,null,-265.44,null,2011,2020,null,-20.75,null,2016,2018,null,-210.62]
[3,320,2.2000000000000002,-4.4400000000000004,"NaN",3000,560,2016,2018,null,-49.93,1,"Heden","-",521.1,471.17,421.23,371.3,321.37,{"$f":"Input!AB27","v":-38.9},{"$f":"Input!AC27","v":-88.83},{"$f":"Input!AD27","v":-138.77000000000001},{"$f":"Input!AE27","v":-188.7},{"$f":"Input!AF27","v":-238.63},null,null,2016,2018,null,-356.55,null,2016,2018,null,-267.93,null,2011,2020,null,-14.4,null,2016,2018,null,-356.55]
[3,340,2.2000000000000002,-4.4400000000000004,"NaN",3000,620,2016,2018,null,-48.07,0.96,"Heden","-",614.94000000000005,566.88,518.80999999999995,470.75,422.68,{"$f":"Input!AB28","v":-5.0599999999999996},{"$f":"Input!AC28","v":-53.12},{"$f":"Input!AD28","v":-101.19},{"$f":"Input!AE28","v":-149.25},{"$f":"Input!AF28","v":-197.32},null,null,2016,2018,null,-277.41000000000003,null,2016,2018,null,-238.44,null,2011,2020,null,-9.3000000000000007,null,2016,2018,null,-277.41000000000003]
[3,360,2.2000000000000002,-4.4400000000000004,"NaN",3000,660,2016,2018,null,-44.39,0.98,"2021-08-23",2021,688.51,644.12,599.73,555.33000000000004,510.94,{"$f":"Input!AB29","v":28.51},{"$f":"Input!AC29","v":-15.88},{"$f":"Input!AD29","v":-60.27},{"$f":"Input!AE29","v":-104.67},{"$f":"Input!AF29","v":-149.06},null,null,2016,2018,null,-225.33,null,2016,2018,null,-228.38,null,2011,2020,null,-27.51,null,2016,2018,null,-225.33]
[3,380,2.2000000000000002,-4.4400000000000004,"NaN",3000,670,2016,2018,null,-40.4,0.87,"2023-07-16",2023,772.57,732.17,691.77,651.36,610.96,{"$f":"Input!AB30","v":102.57},{"$f":"Input!AC30","v":62.17},{"$f":"Input!AD30","v":21.77},{"$f":"Input!AE30","v":-18.64},{"$f":"Input!AF30","v":-59.04},null,null,2016,2018,null,-87.64,null,2016,2018,null,-221.11,null,2011,2020,null,1.98,null,2016,2018,null,-113.53]
[3,400,2.2000000000000002,-4.4400000000000004,"NaN",3000,670,2016,2019,null,-25.74,0.99,"2028-09-27",2028,869.15,843.41,817.68,791.94,766.2,{"$f":"Input!AB31","v":199.15},{"$f":"Input!AC31","v":173.41},{"$f":"Input!AD31","v":147.68},{"$f":"Input!AE31","v":121.94},{"$f":"Input!AF31","v":96.2},null,null,2016,2019,null,-91.06,null,2016,2018,null,-229.97,null,2011,2020,null,9.89,null,2016,2019,null,-100.33]
[3,401,2.2000000000000002,-4.4400000000000004,"NaN",965,670,2016,2019,null,-41.03,1,"Heden","-",634.32000000000005,593.29,552.25,511.22,470.19,{"$f":"Input!AB32","v":-35.68},{"$f":"Input!AC32","v":-76.709999999999994},{"$f":"Input!AD32","v":-117.75},{"$f":"Input!AE32","v":-158.78},{"$f":"Input!AF32","v":-199.81},null,null,2016,2019,null,-96.31,null,2016,2018,null,-224.63,null,2011,2020,null,7.84,null,2016,2019,null,-97.49]
[3,402,2.2000000000000002,-4.4400000000000004,"NaN",1118,675,2016,2019,null,-44.38,1,"Heden","-",662.65,618.27,573.9,529.52,485.15,{"$f":"Input!AB33","v":-12.35},{"$f":"Input!AC33","v":-56.73},{"$f":"Input!AD33","v":-101.1},{"$f":"Input!AE33","v":-145.47999999999999},{"$f":"Input!AF33","v":-189.85},null,null,2016,2019,null,-77.06,null,2016,2018,null,-226.06,null,2011,2020,null,8.01,null,2016,2019,null,-94.64]
[3,420,2.2000000000000002,-4.4400000000000004,"NaN",1350,725,2011,2019,null,-31.77,0.97,"2022-08-29",2022,777.71,745.94,714.17,682.4,650.63,{"$f":"Input!AB34","v":52.71},{"$f":"Input!AC34","v":20.94},{"$f":"Input!AD34","v":-10.83},{"$f":"Input!AE34","v":-42.6},{"$f":"Input!AF34","v":-74.37},null,null,2011,2019,null,-80.7,null,2011,2018,null,-106.71,null,2011,2020,null,7.29,null,2011,2019,null,-80.7]
[3,440,2.2000000000000002,-4.4400000000000004,"NaN",1500,770,2011,2020,null,-26.04,0.94,"2025-07-15",2025,888.11,862.07,836.04,810,783.96,{"$f":"Input!AB35","v":118.11},{"$f":"Input!AC35","v":92.07},{"$f":"Input!AD35","v":66.040000000000006},{"$f":"Input!AE35","v":40},{"$f":"Input!AF35","v":13.96},null,null,2011,2020,null,-55.08,null,2011,2020,null,-94.46,null,2011,2020,null,7.76,null,2011,2020,null,-55.08]
[3,460,2.2000000000000002,-4.4400000000000004,"NaN",1600,810,2011,2020,null,-19.66,0.86,"2033-03-07",">2031",1049.44,1029.78,1010.12,990.46,970.8,{"$f":"Input!AB36","v":239.44},{"$f":"Input!AC36","v":219.78},{"$f":"Input!AD36","v":200.12},{"$f":"Input!AE36","v":180.46},{"$f":"Input!AF36","v":160.80000000000001},null,null,2011,2020,null,-2.2000000000000002,null,2011,2020,null,-50.24,null,2011,2020,null,8.5399999999999991,null,2011,2020,null,-2.2000000000000002]
[3,480,2.2000000000000002,-4.4400000000000004,"NaN",1750,850,2011,2020,null,-8.93,0.45,"2062-03-31",">2031",1218.47,1209.54,1200.6099999999999,1191.67,1182.74,{"$f":"Input!AB37","v":368.47},{"$f":"Input!AC37","v":359.54},{"$f":"Input!AD37","v":350.61},{"$f":"Input!AE37","v":341.67},{"$f":"Input!AF37","v":332.74},null,null,2011,2020,null,12.2,null,2011,2020,null,-9.19,null,2011,2020,null,3.1,null,2011,2020,null,12.2]
[3,500,2.2000000000000002,-4.4400000000000004,"NaN",1800,830,2011,2020,null,8.5299999999999994,0.39,"NaN","-",1406.92,1415.45,1423.98,1432.51,1441.04,{"$f":"Input!AB38","v":576.91999999999996},{"$f":"Input!AC38","v":585.45000000000005},{"$f":"Input!AD38","v":593.98},{"$f":"Input!AE38","v":602.51},{"$f":"Input!AF38","v":611.04},null,null,2011,2020,null,93.46,null,2011,2020,null,62.86,null,2011,2020,null,3.41,null,2011,2020,null,93.46]
[3,520,2.2000000000000002,-4.4400000000000004,"NaN",1800,790,2011,2020,null,23.39,0.78,"NaN","-",1555.08,1578.47,1601.87,1625.26,1648.66,{"$f":"Input!AB39","v":765.08},{"$f":"Input!AC39","v":788.47},{"$f":"Input!AD39","v":811.87},{"$f":"Input!AE39","v":835.26},{"$f":"Input!AF39","v":858.66},null,null,2011,2020,null,208.71,null,2011,2020,null,118.52,null,2011,2020,null,0.19,null,2011,2020,null,208.71]
[3,540,2.2000000000000002,-4.4400000000000004,"NaN",1800,780,2011,2020,null,33.25,0.88,"NaN","-",1620.85,1654.1,1687.36,1720.61,1753.87,{"$f":"Input!AB40","v":840.85},{"$f":"Input!AC40","v":874.1},{"$f":"Input!AD40","v":907.36},{"$f":"Input!AE40","v":940.61},{"$f":"Input!AF40","v":973.87},null,null,2011,2020,null,265.79000000000002,null,2011,2020,null,153.56,null,2011,2020,null,0.12,null,2011,2020,null,265.79000000000002]
[3,560,2.2000000000000002,-4.4400000000000004,"NaN",1770,680,2011,2020,null,43.07,0.96,"NaN","-",1644.32,1687.39,1730.46,1773.53,1816.59,{"$f":"Input!AB41","v":964.32},{"$f":"Input!AC41","v":1007.39},{"$f":"Input!AD41","v":1050.46},{"$f":"Input!AE41","v":1093.53},{"$f":"Input!AF41","v":1136.5899999999999},null,null,2011,2020,null,315.69,null,2011,2020,null,189.78,null,2011,2020,null,-0.39,null,2011,2020,null,315.69]
[3,580,2.2000000000000002,-4.4400000000000004,"NaN","NaN",650,2011,2020,null,67.88,0.89,"NaN","-",1928.61,1996.49,2064.38,2132.2600000000002,2200.14,{"$f":"Input!AB42","v":1278.6099999999999},{"$f":"Input!AC42","v":1346.49},{"$f":"Input!AD42","v":1414.38},{"$f":"Input!AE42","v":1482.26},{"$f":"Input!AF42","v":1550.14},null,null,2011,2020,null,516.04999999999995,null,2011,2020,null,220.45,null,2011,2020,null,0.06,null,2011,2020,null,516.04999999999995]
[3,600,2.2000000000000002,-4.4400000000000004,"NaN","NaN",575,2011,2020,null,72.34,0.9,"NaN","-",1844.46,1916.81,1989.15,2061.4899999999998,2133.84,{"$f":"Input!AB43","v":1269.46},{"$f":"Input!AC43","v":1341.81},{"$f":"Input!AD43","v":1414.15},{"$f":"Input!AE43","v":1486.49},{"$f":"Input!AF43","v":1558.84},null,null,2011,2020,null,559.5,null,2011,2020,null,220.33,null,2011,2020,null,-0.52,null,2011,2020,null,559.5]
[3,620,2.2000000000000002,-4.4400000000000004,"NaN","NaN",540,2011,2020,null,72.040000000000006,0.95,"NaN","-",1713.26,1785.3,1857.34,1929.38,2001.42,{"$f":"Input!AB44","v":1173.26},{"$f":"Input!AC44","v":1245.3},{"$f":"Input!AD44","v":1317.34},{"$f":"Input!AE44","v":1389.38},{"$f":"Input!AF44","v":1461.42},null,null,2011,2020,null,562.28,null,2011,2020,null,207.67,null,2011,2020,null,0.04,null,2011,2020,null,562.28]
[3,640,2.2000000000000002,-4.4400000000000004,"NaN","NaN",475,2011,2020,null,71.349999999999994,0.97,"NaN","-",1598.86,1670.21,1741.56,1812.91,1884.27,{"$f":"Input!AB45","v":1123.8599999999999},{"$f":"Input!AC45","v":1195.21},{"$f":"Input!AD45","v":1266.56},{"$f":"Input!AE45","v":1337.91},{"$f":"Input!AF45","v":1409.27},null,null,2011,2020,null,593.91,null,2011,2020,null,206.64,null,2011,2020,null,-0.13,null,2011,2020,null,593.91]
[3,660,2.2000000000000002,-4.4400000000000004,"NaN","NaN",425,2011,2020,2018.202,73.099999999999994,0.93,"NaN",{"$f":"\"- - - - -\"","v":"- - - - -"},1520.88,1593.98,1667.08,1740.18,1168.98,{"$f":"Input!AB46","v":1813.28},{"$f":"Input!AC46","v":1095.8800000000001},{"$f":"Input!AD46","v":1168.98},{"$f":"Input!AE46","v":1242.08},{"$f":"Input!AF46","v":1315.18},null,null,2011,2020,2018.2019,{"$f":"Input!AU46","v":644.29},null,2011,2020,2018.2019,186.78,null,2011,2020,null,-0.04,null,2011,2020,2018.2019,{"$f":"Input!CB46","v":644.29}]
[3,680,2.2000000000000002,-4.4400000000000004,"NaN","NaN",400,2011,2020,null,73.95,0.91,"NaN","-",1423.86,1497.81,1571.77,1645.72,1719.67,{"$f":"Input!AB47","v":1023.86},{"$f":"Input!AC47","v":1097.81},{"$f":"Input!AD47","v":1171.77},{"$f":"Input!AE47","v":1245.72},{"$f":"Input!AF47","v":1319.67},null,null,2011,2020,null,628.20000000000005,null,2011,2020,null,210.3,null,2011,2020,null,-2.02,null,2011,2020,null,628.20000000000005]
[3,700,2.2000000000000002,-4.4400000000000004,"NaN","NaN",350,2011,2020,null,59.97,0.88,"NaN","-",1214.9000000000001,1274.8699999999999,1334.84,1394.81,1454.78,{"$f":"Input!AB48","v":864.9},{"$f":"Input!AC48","v":924.87},{"$f":"Input!AD48","v":984.84},{"$f":"Input!AE48","v":1044.81},{"$f":"Input!AF48","v":1104.78},null,null,2011,2020,null,526.77,null,2011,2020,null,165.66,null,2011,2020,null,-1.08,null,2011,2020,null,526.77]
[3,720,2.2000000000000002,-4.4400000000000004,"NaN","NaN",325,2011,2020,null,55.76,0.83,"NaN","-",1082.5999999999999,1138.3599999999999,1194.1199999999999,1249.8800000000001,1305.6400000000001,{"$f":"Input!AB49","v":757.6},{"$f":"Input!AC49","v":813.36},{"$f":"Input!AD49","v":869.12},{"$f":"Input!AE49","v":924.88},{"$f":"Input!AF49","v":980.64},null,null,2011,2020,null,526.24,null,2011,2020,null,137.33000000000001,null,2011,2020,null,3.92,null,2011,2020,null,526.24]
[3,740,2.2000000000000002,-4.4400000000000004,"NaN","NaN",275,2011,2020,null,35.9,0.66,"NaN","-",853.36,889.25,925.15,961.05,996.95,{"$f":"Input!AB50","v":578.36},{"$f":"Input!AC50","v":614.25},{"$f":"Input!AD50","v":650.15},{"$f":"Input!AE50","v":686.05},{"$f":"Input!AF50","v":721.95},null,null,2011,2020,null,431.1,null,2011,2020,null,64.91,null,2011,2020,null,-2.63,null,2011,2020,null,431.1]
[3,760,2.2000000000000002,-4.4400000000000004,"NaN","NaN",225,2011,2020,null,21.2,0.43,"NaN","-",680.83,702.03,723.23,744.43,765.63,{"$f":"Input!AB51","v":455.83},{"$f":"Input!AC51","v":477.03},{"$f":"Input!AD51","v":498.23},{"$f":"Input!AE51","v":519.42999999999995},{"$f":"Input!AF51","v":540.63},null,null,2011,2020,null,351.07,null,2011,2020,null,22.14,null,2011,2020,null,-1.48,null,2011,2020,null,351.07]
[3,780,2.2000000000000002,-4.4400000000000004,"NaN","NaN",200,2011,2020,null,5.44,0.06,"NaN","-",522.51,527.95000000000005,533.39,538.83000000000004,544.27,{"$f":"Input!AB52","v":322.51},{"$f":"Input!AC52","v":327.95},{"$f":"Input!AD52","v":333.39},{"$f":"Input!AE52","v":338.83},{"$f":"Input!AF52","v":344.27},null,null,2011,2020,null,267.19,null,2011,2020,null,-26.37,null,2011,2020,null,-1.3,null,2011,2020,null,267.19]
[3,800,2.2000000000000002,-4.4400000000000004,"NaN","NaN",150,2011,2020,null,-10.039999999999999,0.24,"2043-11-26",">2031",380.02,369.98,359.93,349.89,339.85,{"$f":"Input!AB53","v":230.02},{"$f":"Input!AC53","v":219.98},{"$f":"Input!AD53","v":209.93},{"$f":"Input!AE53","v":199.89},{"$f":"Input!AF53","v":189.85},null,null,2011,2020,null,142.19,null,2011,2020,null,-65.709999999999994,null,2011,2020,null,-0.55000000000000004,null,2011,2020,null,142.19]
[3,820,2.2000000000000002,-4.4400000000000004,"NaN","NaN",130,2011,2020,null,-23.74,0.73,"2027-07-05",2027,284.45999999999998,260.72000000000003,236.99,213.25,189.52,{"$f":"Input!AB54","v":154.46},{"$f":"Input!AC54","v":130.72},{"$f":"Input!AD54","v":106.99},{"$f":"Input!AE54","v":83.25},{"$f":"Input!AF54","v":59.52},null,null,2011,2020,null,-18.59,null,2011,2020,null,-106.08,null,2011,2020,null,2.48,null,2011,2020,null,-18.59]
[3,840,2.2000000000000002,-4.4400000000000004,"NaN","NaN",100,2011,2020,null,-25.74,0.86,"2026-08-25",2026,245.34,219.6,193.87,168.13,142.4,{"$f":"Input!AB55","v":145.34},{"$f":"Input!AC55","v":119.6},{"$f":"Input!AD55","v":93.87},{"$f":"Input!AE55","v":68.13},{"$f":"Input!AF55","v":42.4},null,null,2011,2020,null,-83.34,null,2011,2020,null,-104,null,2011,2020,null,2.23,null,2011,2020,null,-83.34]
[3,860,2.2000000000000002,-4.4400000000000004,"NaN","NaN",80,2011,2020,null,-28.88,0.92,"2025-05-16",2025,206.27,177.39,148.51,119.62,90.74,{"$f":"Input!AB56","v":126.27},{"$f":"Input!AC56","v":97.39},{"$f":"Input!AD56","v":68.510000000000005},{"$f":"Input!AE56","v":39.619999999999997},{"$f":"Input!AF56","v":10.74},null,null,2011,2020,null,-135.08000000000001,null,2011,2020,null,-104.54,null,2011,2020,null,2.4700000000000002,null,2011,2020,null,-135.08000000000001]
[3,880,2.2000000000000002,-4.4400000000000004,"NaN","NaN",60,2011,2020,null,-28.51,0.95,"2025-05-31",2025,185.81,157.30000000000001,128.79,100.29,71.78,{"$f":"Input!AB57","v":125.81},{"$f":"Input!AC57","v":97.3},{"$f":"Input!AD57","v":68.790000000000006},{"$f":"Input!AE57","v":40.29},{"$f":"Input!AF57","v":11.78},null,null,2011,2020,null,-151.69,null,2011,2020,null,-100.95,null,2011,2020,null,2.2599999999999998,null,2011,2020,null,-151.69]
[3,900,2.2000000000000002,-4.4400000000000004,"NaN","NaN",50,2011,2020,null,-28.86,0.97,"2025-02-09",2025,168.57,139.71,110.85,81.99,53.13,{"$f":"Input!AB58","v":118.57},{"$f":"Input!AC58","v":89.71},{"$f":"Input!AD58","v":60.85},{"$f":"Input!AE58","v":31.99},{"$f":"Input!AF58","v":3.13},null,null,2011,2020,null,-172.64,null,2011,2020,null,-92.63,null,2011,2020,null,3.16,null,2011,2020,null,-172.64]
[3,920,2.2000000000000002,-4.4400000000000004,"NaN","NaN",20,2011,2020,null,-23.96,0.94,"2027-10-01",2027,181.69,157.72999999999999,133.78,109.82,85.86,{"$f":"Input!AB59","v":161.69},{"$f":"Input!AC59","v":137.72999999999999},{"$f":"Input!AD59","v":113.78},{"$f":"Input!AE59","v":89.82},{"$f":"Input!AF59","v":65.86},null,null,2011,2020,null,-215.27,null,2011,2020,null,-80.510000000000005,null,2011,2020,null,5.17,null,2011,2020,null,-215.27]
[3,940,2.2000000000000002,-4.4400000000000004,"NaN","NaN",20,2011,2020,null,-20.059999999999999,0.92,"2029-02-14",2029,182.86,162.80000000000001,142.75,122.69,102.64,{"$f":"Input!AB60","v":162.86000000000001},{"$f":"Input!AC60","v":142.80000000000001},{"$f":"Input!AD60","v":122.75},{"$f":"Input!AE60","v":102.69},{"$f":"Input!AF60","v":82.64},null,null,2011,2020,null,-200.29,null,2011,2020,null,-63.29,null,2011,2020,null,5.05,null,2011,2020,null,-200.29]
[3,960,2.2000000000000002,-4.4400000000000004,"NaN","NaN",30,2011,2020,null,-16.93,0.9,"2030-04-19",2030,187.37,170.44,153.52000000000001,136.59,119.66,{"$f":"Input!AB61","v":157.37},{"$f":"Input!AC61","v":140.44},{"$f":"Input!AD61","v":123.52},{"$f":"Input!AE61","v":106.59},{"$f":"Input!AF61","v":89.66},null,null,2011,2020,null,-211.94,null,2011,2020,null,-47.24,null,2011,2020,null,4.28,null,2011,2020,null,-211.94]
[3,980,2.2000000000000002,-4.4400000000000004,"NaN","NaN",40,2011,2020,null,-10.82,0.77,"2035-10-01",">2031",199.57,188.75,177.93,167.11,156.29,{"$f":"Input!AB62","v":159.57},{"$f":"Input!AC62","v":148.75},{"$f":"Input!AD62","v":137.93},{"$f":"Input!AE62","v":127.11},{"$f":"Input!AF62","v":116.29},null,null,2011,2020,null,-144.49,null,2011,2020,null,-31.06,null,2011,2020,null,4.83,null,2011,2020,null,-144.49]
[3,1000,2.2000000000000002,-4.4400000000000004,"NaN","NaN",50,2011,2020,null,-7.48,0.73,"2041-01-12",">2031",199.79,192.32,184.84,177.36,169.88,{"$f":"Input!AB63","v":149.79},{"$f":"Input!AC63","v":142.32},{"$f":"Input!AD63","v":134.84},{"$f":"Input!AE63","v":127.36},{"$f":"Input!AF63","v":119.88},null,null,2011,2020,null,-88.52,null,2011,2020,null,-16.61,null,2011,2020,null,6.29,null,2011,2020,null,-88.52]
[3,1020,2.2000000000000002,-4.4400000000000004,"NaN","NaN",48,2011,2020,null,-3.92,0.31,"2060-04-03",">2031",202.06,198.13,194.21,190.29,186.36,{"$f":"Input!AB64","v":154.06},{"$f":"Input!AC64","v":150.13},{"$f":"Input!AD64","v":146.21},{"$f":"Input!AE64","v":142.29},{"$f":"Input!AF64","v":138.36000000000001},null,null,2011,2020,null,-67.92,null,2011,2020,null,0.66,null,2011,2020,null,5.99,null,2011,2020,null,-67.92]
[3,1040,2.2000000000000002,-4.4400000000000004,"NaN","NaN",30,2011,2020,null,-2.21,0.12,"2096-05-29",">2031",196.7,194.49,192.28,190.06,187.85,{"$f":"Input!AB65","v":166.7},{"$f":"Input!AC65","v":164.49},{"$f":"Input!AD65","v":162.28},{"$f":"Input!AE65","v":160.06},{"$f":"Input!AF65","v":157.85},null,null,2011,2020,null,-64.790000000000006,null,2011,2020,null,9.86,null,2011,2020,null,5.13,null,2011,2020,null,-64.790000000000006]
[3,1060,2.2000000000000002,-4.4400000000000004,"NaN","NaN",22,2011,2020,null,1.55,0.05,"NaN","-",200.87,202.42,203.97,205.52,207.07,{"$f":"Input!AB66","v":178.87},{"$f":"Input!AC66","v":180.42},{"$f":"Input!AD66","v":181.97},{"$f":"Input!AE66","v":183.52},{"$f":"Input!AF66","v":185.07},null,null,2011,2020,null,-4.32,null,2011,2020,null,18.05,null,2011,2020,null,4.54,null,2011,2020,null,-4.32]
[3,1080,2.2000000000000002,-4.4400000000000004,"NaN","NaN",38,2011,2020,null,1.1499999999999999,0.03,"NaN","-",194.39,195.55,196.7,197.85,199,{"$f":"Input!AB67","v":156.38999999999999},{"$f":"Input!AC67","v":157.55000000000001},{"$f":"Input!AD67","v":158.69999999999999},{"$f":"Input!AE67","v":159.85},{"$f":"Input!AF67","v":161},null,null,2011,2020,null,20.329999999999998,null,2011,2020,null,20.96,null,2011,2020,null,6.39,null,2011,2020,null,20.329999999999998]
[3,1100,2.2000000000000002,-4.4400000000000004,"NaN","NaN",32,2011,2020,null,4.03,0.35,"NaN","-",198.15,202.18,206.21,210.24,214.27,{"$f":"Input!AB68","v":166.15},{"$f":"Input!AC68","v":170.18},{"$f":"Input!AD68","v":174.21},{"$f":"Input!AE68","v":178.24},{"$f":"Input!AF68","v":182.27},null,null,2011,2020,null,19.03,null,2011,2020,null,27.67,null,2011,2020,null,5.67,null,2011,2020,null,19.03]
[3,1120,2.2000000000000002,-4.4400000000000004,"NaN","NaN",2,2011,2020,null,4.87,0.34,"NaN","-",176.89,181.76,186.63,191.5,196.37,{"$f":"Input!AB69","v":174.89},{"$f":"Input!AC69","v":179.76},{"$f":"Input!AD69","v":184.63},{"$f":"Input!AE69","v":189.5},{"$f":"Input!AF69","v":194.37},null,null,2011,2020,null,10.78,null,2011,2020,null,35.96,null,2011,2020,null,6.59,null,2011,2020,null,10.78]
[3,1140,2.2000000000000002,-4.4400000000000004,"NaN","NaN",-7,2011,2020,null,5.07,0.48,"NaN","-",163.06,168.13,173.21,178.28,183.35,{"$f":"Input!AB70","v":170.06},{"$f":"Input!AC70","v":175.13},{"$f":"Input!AD70","v":180.21},{"$f":"Input!AE70","v":185.28},{"$f":"Input!AF70","v":190.35},null,null,2011,2020,null,26.75,null,2012,2020,null,27.38,null,2011,2020,null,8.6999999999999993,null,2011,2020,null,26.75]
[3,1160,2.2000000000000002,-4.4400000000000004,"NaN","NaN",-16,2011,2020,null,5.26,0.54,"NaN","-",141.32,146.58000000000001,151.85,157.11000000000001,162.37,{"$f":"Input!AB71","v":157.32},{"$f":"Input!AC71","v":162.58000000000001},{"$f":"Input!AD71","v":167.85},{"$f":"Input!AE71","v":173.11},{"$f":"Input!AF71","v":178.37},null,null,2011,2020,null,31.43,null,2012,2020,null,29.09,null,2011,2020,null,8.6199999999999992,null,2011,2020,null,31.43]
[3,1180,2.2000000000000002,-4.4400000000000004,"NaN","NaN",-30,2011,2020,null,5.53,0.66,"NaN","-",123.65,129.18,134.71,140.24,145.78,{"$f":"Input!AB72","v":153.65},{"$f":"Input!AC72","v":159.18},{"$f":"Input!AD72","v":164.71},{"$f":"Input!AE72","v":170.24},{"$f":"Input!AF72","v":175.78},null,null,2011,2020,null,33.9,null,2012,2020,null,34.270000000000003,null,2011,2020,null,5.96,null,2011,2020,null,33.9]
[3,1200,2.2000000000000002,-4.4400000000000004,"NaN","NaN",-30,2011,2020,null,5.79,0.74,"NaN","-",112.39,118.18,123.97,129.76,135.54,{"$f":"Input!AB73","v":142.38999999999999},{"$f":"Input!AC73","v":148.18},{"$f":"Input!AD73","v":153.97},{"$f":"Input!AE73","v":159.76},{"$f":"Input!AF73","v":165.54},null,null,2011,2020,null,37.46,null,2012,2020,null,42.07,null,2011,2020,null,4.5199999999999996,null,2011,2020,null,37.46]
[3,1220,2.2000000000000002,-4.4400000000000004,"NaN","NaN",-25,2011,2020,null,7.35,0.82,"NaN","-",105.08,112.43,119.78,127.13,134.47999999999999,{"$f":"Input!AB74","v":130.08000000000001},{"$f":"Input!AC74","v":137.43},{"$f":"Input!AD74","v":144.78},{"$f":"Input!AE74","v":152.13},{"$f":"Input!AF74","v":159.47999999999999},null,null,2011,2020,null,47.93,null,2012,2020,null,44.93,null,2011,2020,null,1.75,null,2011,2020,null,47.93]
[3,1240,2.2000000000000002,-4.4400000000000004,"NaN","NaN",-34,2016,2020,null,2.0299999999999998,0.19,"NaN","-",84.01,86.03,88.06,90.08,92.11,{"$f":"Input!AB75","v":118.01},{"$f":"Input!AC75","v":120.03},{"$f":"Input!AD75","v":122.06},{"$f":"Input!AE75","v":124.08},{"$f":"Input!AF75","v":126.11},null,null,2016,2020,null,17.649999999999999,null,2016,2020,null,7.98,null,2011,2020,null,3.37,null,2016,2020,null,17.649999999999999]
[3,1260,2.2000000000000002,-4.4400000000000004,"NaN","NaN",-25,2016,2020,null,1.4,0.08,"NaN","-",70.59,71.98,73.38,74.78,76.180000000000007,{"$f":"Input!AB76","v":95.59},{"$f":"Input!AC76","v":96.98},{"$f":"Input!AD76","v":98.38},{"$f":"Input!AE76","v":99.78},{"$f":"Input!AF76","v":101.18},null,null,2016,2020,null,-38.32,null,2016,2020,null,18.38,null,2011,2020,null,2.96,null,2016,2020,null,-38.32]
[3,1280,2.2000000000000002,-4.4400000000000004,"NaN","NaN",-31,2016,2020,null,5.0999999999999996,0.44,"NaN","-",74.959999999999994,80.069999999999993,85.17,90.27,95.37,{"$f":"Input!AB77","v":105.96},{"$f":"Input!AC77","v":111.07},{"$f":"Input!AD77","v":116.17},{"$f":"Input!AE77","v":121.27},{"$f":"Input!AF77","v":126.37},null,null,2016,2020,null,16.39,null,2016,2020,null,22.68,null,2011,2020,null,2.64,null,2016,2020,null,16.39]
[3,1300,2.2000000000000002,-4.4400000000000004,"NaN","NaN",-38,2016,2020,null,5.56,0.45,"NaN","-",84.79,90.35,95.91,101.47,107.03,{"$f":"Input!AB78","v":122.79},{"$f":"Input!AC78","v":128.35},{"$f":"Input!AD78","v":133.91},{"$f":"Input!AE78","v":139.47},{"$f":"Input!AF78","v":145.03},null,null,2016,2019,null,-33.15,null,2016,2020,null,10.98,null,2011,2020,null,7.7,null,2016,2019,null,-33.15]
[3,1320,2.2000000000000002,-4.4400000000000004,"NaN","NaN",-34,2016,2020,null,8.1300000000000008,0.72,"NaN","-",83.63,91.75,99.88,108.01,116.13,{"$f":"Input!AB79","v":117.63},{"$f":"Input!AC79","v":125.75},{"$f":"Input!AD79","v":133.88},{"$f":"Input!AE79","v":142.01},{"$f":"Input!AF79","v":150.13},null,null,2016,2019,null,-42.14,null,2016,2020,null,11.32,null,2011,2020,null,4.68,null,2016,2019,null,-42.14]
[3,1340,2.2000000000000002,-4.4400000000000004,"NaN","NaN",-34,2016,2020,null,10.06,0.55000000000000004,"NaN","-",84.26,94.32,104.37,114.43,124.49,{"$f":"Input!AB80","v":118.26},{"$f":"Input!AC80","v":128.32},{"$f":"Input!AD80","v":138.37},{"$f":"Input!AE80","v":148.43},{"$f":"Input!AF80","v":158.49},null,null,2016,2019,null,-64.61,null,2016,2020,null,25.93,null,2011,2020,null,4.32,null,2016,2019,null,-64.61]
[3,1360,2.2000000000000002,-4.4400000000000004,"NaN","NaN",-41,2016,2020,null,10.72,0.78,"NaN","-",88.38,99.09,109.81,120.53,131.25,{"$f":"Input!AB81","v":129.38},{"$f":"Input!AC81","v":140.09},{"$f":"Input!AD81","v":150.81},{"$f":"Input!AE81","v":161.53},{"$f":"Input!AF81","v":172.25},null,null,2016,2019,null,-43.82,null,2016,2020,null,33.36,null,2011,2020,null,7.44,null,2016,2019,null,-43.82]
[3,1380,2.2000000000000002,-4.4400000000000004,"NaN","NaN",-33,2016,2020,null,9.8699999999999992,0.84,"NaN","-",85.92,95.79,105.66,115.53,125.4,{"$f":"Input!AB82","v":118.92},{"$f":"Input!AC82","v":128.79},{"$f":"Input!AD82","v":138.66},{"$f":"Input!AE82","v":148.53},{"$f":"Input!AF82","v":158.4},null,null,2016,2019,null,-20.92,null,2016,2020,null,26.12,null,2011,2020,null,6.95,null,2016,2019,null,-20.92]
[3,1400,2.2000000000000002,-4.4400000000000004,"NaN","NaN",-33,2016,2020,null,9.84,0.76,"NaN","-",81.03,90.87,100.72,110.56,120.4,{"$f":"Input!AB83","v":114.03},{"$f":"Input!AC83","v":123.87},{"$f":"Input!AD83","v":133.72},{"$f":"Input!AE83","v":143.56},{"$f":"Input!AF83","v":153.4},null,null,2016,2019,null,9.9700000000000006,null,2016,2020,null,36.42,null,2011,2020,null,5.01,null,2016,2019,null,9.9700000000000006]
[3,1420,2.2000000000000002,-4.4400000000000004,"NaN","NaN",-32,2016,2020,null,12.24,0.93,"NaN","-",82.2,94.44,106.68,118.92,131.16,{"$f":"Input!AB84","v":114.2},{"$f":"Input!AC84","v":126.44},{"$f":"Input!AD84","v":138.68},{"$f":"Input!AE84","v":150.91999999999999},{"$f":"Input!AF84","v":163.16},null,null,2016,2019,null,18.32,null,2016,2020,null,49.81,null,2011,2020,null,2.12,null,2016,2019,null,18.32]
[3,1440,2.2000000000000002,-4.4400000000000004,"NaN","NaN",-35,2016,2020,null,11.22,0.7,"NaN","-",72.8,84.01,95.23,106.45,117.66,{"$f":"Input!AB85","v":107.8},{"$f":"Input!AC85","v":119.01},{"$f":"Input!AD85","v":130.22999999999999},{"$f":"Input!AE85","v":141.44999999999999},{"$f":"Input!AF85","v":152.66},null,null,2016,2019,null,-14.63,null,2016,2020,null,60.36,null,2011,2020,null,2.35,null,2016,2019,null,-14.63]
[3,1460,2.2000000000000002,-4.4400000000000004,"NaN","NaN",-39,2016,2020,null,8.07,0.93,"NaN","-",59.1,67.17,75.239999999999995,83.3,91.37,{"$f":"Input!AB86","v":98.1},{"$f":"Input!AC86","v":106.17},{"$f":"Input!AD86","v":114.24},{"$f":"Input!AE86","v":122.3},{"$f":"Input!AF86","v":130.37},null,null,2016,2019,null,-53.56,null,2016,2020,null,43.72,null,2011,2020,null,4.7,null,2016,2019,null,-53.56]
[3,1480,2.2000000000000002,-4.4400000000000004,"NaN","NaN",-28,2016,2020,null,10.5,0.87,"NaN","-",56.4,66.900000000000006,77.400000000000006,87.9,98.4,{"$f":"Input!AB87","v":84.4},{"$f":"Input!AC87","v":94.9},{"$f":"Input!AD87","v":105.4},{"$f":"Input!AE87","v":115.9},{"$f":"Input!AF87","v":126.4},null,null,2016,2019,null,-77.39,null,2016,2020,null,20.47,null,2011,2020,null,3.99,null,2016,2019,null,-77.39]
[3,1500,2.2000000000000002,-4.4400000000000004,"NaN","NaN",-24,2016,2020,null,9.51,0.84,"NaN","-",54.26,63.77,73.28,82.79,92.3,{"$f":"Input!AB88","v":78.260000000000005},{"$f":"Input!AC88","v":87.77},{"$f":"Input!AD88","v":97.28},{"$f":"Input!AE88","v":106.79},{"$f":"Input!AF88","v":116.3},null,null,2016,2019,null,-117.14,null,2016,2020,null,19.37,null,2011,2020,null,3.13,null,2016,2019,null,-117.14]
[3,1520,2.2000000000000002,-4.4400000000000004,"NaN","NaN",-22,2016,2020,null,3.36,0.18,"NaN","-",34.49,37.86,41.22,44.58,47.95,{"$f":"Input!AB89","v":56.49},{"$f":"Input!AC89","v":59.86},{"$f":"Input!AD89","v":63.22},{"$f":"Input!AE89","v":66.58},{"$f":"Input!AF89","v":69.95},null,null,2016,2019,null,-89.18,null,2016,2020,null,-4.3899999999999997,null,2011,2020,null,5.17,null,2016,2019,null,-89.18]
[3,1540,2.2000000000000002,-4.4400000000000004,"NaN","NaN",-12,2016,2020,null,0.59,0.03,"NaN","-",29.48,30.07,30.66,31.25,31.84,{"$f":"Input!AB90","v":41.48},{"$f":"Input!AC90","v":42.07},{"$f":"Input!AD90","v":42.66},{"$f":"Input!AE90","v":43.25},{"$f":"Input!AF90","v":43.84},null,null,2016,2019,null,-166.88,null,2016,2020,null,-4.53,null,2011,2020,null,3.97,null,2016,2019,null,-166.88]
[3,1560,2.2000000000000002,-4.4400000000000004,"NaN","NaN",-9,2016,2020,null,0.17,0,"NaN","-",40.28,40.450000000000003,40.61,40.78,40.94,{"$f":"Input!AB91","v":49.28},{"$f":"Input!AC91","v":49.45},{"$f":"Input!AD91","v":49.61},{"$f":"Input!AE91","v":49.78},{"$f":"Input!AF91","v":49.94},null,null,2016,2019,null,-198.73,null,2016,2020,null,-11.27,null,2011,2020,null,5.86,null,2016,2019,null,-198.73]
[3,1580,2.2000000000000002,-4.4400000000000004,"NaN","NaN",-1,2016,2020,null,-1.1100000000000001,0.1,"2055-12-05",">2031",37.6,36.49,35.39,34.28,33.18,{"$f":"Input!AB92","v":38.6},{"$f":"Input!AC92","v":37.49},{"$f":"Input!AD92","v":36.39},{"$f":"Input!AE92","v":35.28},{"$f":"Input!AF92","v":34.18},null,null,2016,2019,null,-137.4,null,2016,2020,null,-23.11,null,2011,2020,null,8.26,null,2016,2019,null,-137.4]
[3,1600,2.2000000000000002,-4.4400000000000004,"NaN","NaN",6,2016,2020,null,-0.28999999999999998,0,"2148-08-16",">2031",43.37,43.07,42.78,42.49,42.2,{"$f":"Input!AB93","v":37.369999999999997},{"$f":"Input!AC93","v":37.07},{"$f":"Input!AD93","v":36.78},{"$f":"Input!AE93","v":36.49},{"$f":"Input!AF93","v":36.200000000000003},null,null,2016,2019,null,-119.74,null,2016,2020,null,-11.99,null,2011,2020,null,7.54,null,2016,2019,null,-119.74]
[3,1620,2.2000000000000002,-4.4400000000000004,"NaN","NaN",7,2016,2020,null,-2.81,0.13,"2034-04-07",">2031",44.29,41.48,38.67,35.86,33.049999999999997,{"$f":"Input!AB94","v":37.29},{"$f":"Input!AC94","v":34.479999999999997},{"$f":"Input!AD94","v":31.67},{"$f":"Input!AE94","v":28.86},{"$f":"Input!AF94","v":26.05},null,null,2016,2019,null,-193.56,null,2016,2020,null,-29.51,null,2011,2020,null,6.94,null,2016,2019,null,-193.56]
[3,1640,2.2000000000000002,-4.4400000000000004,"NaN","NaN",10,2016,2020,null,-5.62,0.65,"2024-10-07",2024,31.15,25.53,19.920000000000002,14.3,8.68,{"$f":"Input!AB95","v":21.15},{"$f":"Input!AC95","v":15.53},{"$f":"Input!AD95","v":9.92},{"$f":"Input!AE95","v":4.3},{"$f":"Input!AF95","v":-1.32},null,null,2016,2019,null,-212.24,null,2016,2020,null,-28.95,null,2011,2020,null,6.39,null,2016,2019,null,-212.24]
[3,1660,2.2000000000000002,-4.4400000000000004,"NaN","NaN",7,2016,2020,null,-2.48,0.22,"2031-06-01",2031,32.79,30.31,27.84,25.36,22.89,{"$f":"Input!AB96","v":25.79},{"$f":"Input!AC96","v":23.31},{"$f":"Input!AD96","v":20.84},{"$f":"Input!AE96","v":18.36},{"$f":"Input!AF96","v":15.89},null,null,2016,2019,null,-222.92,null,2016,2020,null,-12.32,null,2011,2020,null,8.11,null,2016,2019,null,-222.92]
[3,1680,2.2000000000000002,-4.4400000000000004,"NaN","NaN",13,2016,2020,null,-2.66,0.36,"2029-04-14",2029,35.03,32.369999999999997,29.71,27.05,24.39,{"$f":"Input!AB97","v":22.03},{"$f":"Input!AC97","v":19.37},{"$f":"Input!AD97","v":16.71},{"$f":"Input!AE97","v":14.05},{"$f":"Input!AF97","v":11.39},null,null,2016,2019,null,-208.75,null,2016,2020,null,-9.24,null,2011,2020,null,9.83,null,2016,2019,null,-208.75]
[3,1700,2.2000000000000002,-4.4400000000000004,"NaN","NaN",20,2016,2020,null,-6.25,0.72,"2021-10-16",2021,24.94,18.690000000000001,12.44,6.19,-0.05,{"$f":"Input!AB98","v":4.9400000000000004},{"$f":"Input!AC98","v":-1.31},{"$f":"Input!AD98","v":-7.56},{"$f":"Input!AE98","v":-13.81},{"$f":"Input!AF98","v":-20.05},null,null,2016,2019,null,-185.63,null,2016,2020,null,-22.79,null,2011,2020,null,7.18,null,2016,2019,null,-185.63]
[3,1720,2.2000000000000002,-4.4400000000000004,"NaN","NaN",19,2012,2020,null,-1.19,7.0000000000000007E-2,"2034-10-06",">2031",35.33,34.14,32.950000000000003,31.77,30.58,{"$f":"Input!AB99","v":16.329999999999998},{"$f":"Input!AC99","v":15.14},{"$f":"Input!AD99","v":13.95},{"$f":"Input!AE99","v":12.77},{"$f":"Input!AF99","v":11.58},null,null,2012,2019,null,-42.52,null,2012,2020,null,9.6199999999999992,null,2011,2020,null,5.79,null,2012,2019,null,-42.52]
[3,1740,2.2000000000000002,-4.4400000000000004,"NaN","NaN",21,2012,2020,null,-2.06,0.11,"2023-10-23",2023,26.77,24.72,22.66,20.61,18.55,{"$f":"Input!AB100","v":5.77},{"$f":"Input!AC100","v":3.72},{"$f":"Input!AD100","v":1.66},{"$f":"Input!AE100","v":-0.39},{"$f":"Input!AF100","v":-2.4500000000000002},null,null,2012,2019,null,-61.47,null,2012,2020,null,5.37,null,2011,2020,null,5.31,null,2012,2019,null,-61.47]
[3,1760,2.2000000000000002,-4.4400000000000004,"NaN","NaN",24,2012,2020,null,-1.59,0.1,"2021-02-20",2021,24.22,22.63,21.05,19.46,17.88,{"$f":"Input!AB101","v":0.22},{"$f":"Input!AC101","v":-1.37},{"$f":"Input!AD101","v":-2.95},{"$f":"Input!AE101","v":-4.54},{"$f":"Input!AF101","v":-6.12},null,null,2012,2019,null,-78.84,null,2012,2020,null,6.41,null,2011,2020,null,1.43,null,2012,2019,null,-78.84]
[3,1780,2.2000000000000002,-4.4400000000000004,"NaN","NaN",19,2012,2020,null,-1.98,0.17,"2023-04-16",2023,23.52,21.55,19.57,17.59,15.62,{"$f":"Input!AB102","v":4.5199999999999996},{"$f":"Input!AC102","v":2.5499999999999998},{"$f":"Input!AD102","v":0.56999999999999995},{"$f":"Input!AE102","v":-1.41},{"$f":"Input!AF102","v":-3.38},null,null,2012,2019,null,-75.86,null,2012,2020,null,3.63,null,2011,2020,null,3.34,null,2012,2019,null,-75.86]
[3,1800,2.2000000000000002,-4.4400000000000004,"NaN","NaN",24,2012,2020,null,-2.52,0.19,"Heden","-",23.07,20.54,18.02,15.5,12.98,{"$f":"Input!AB103","v":-0.93},{"$f":"Input!AC103","v":-3.46},{"$f":"Input!AD103","v":-5.98},{"$f":"Input!AE103","v":-8.5},{"$f":"Input!AF103","v":-11.02},null,null,2012,2019,null,-92.95,null,2012,2020,null,0.99,null,2011,2020,null,1.81,null,2012,2019,null,-92.95]
[3,1820,2.2000000000000002,-4.4400000000000004,"NaN","NaN",22,2012,2020,null,-3.86,0.3,"Heden","-",15.32,11.45,7.59,3.73,-0.13,{"$f":"Input!AB104","v":-6.68},{"$f":"Input!AC104","v":-10.55},{"$f":"Input!AD104","v":-14.41},{"$f":"Input!AE104","v":-18.27},{"$f":"Input!AF104","v":-22.13},null,null,2012,2019,null,-97.1,null,2012,2020,null,-3.02,null,2011,2020,null,3.97,null,2012,2019,null,-97.1]
[3,1840,2.2000000000000002,-4.4400000000000004,"NaN","NaN",25,2012,2020,null,-5.77,0.53,"Heden","-",5.24,-0.53,-6.31,-12.08,-17.86,{"$f":"Input!AB105","v":-19.760000000000002},{"$f":"Input!AC105","v":-25.53},{"$f":"Input!AD105","v":-31.31},{"$f":"Input!AE105","v":-37.08},{"$f":"Input!AF105","v":-42.86},null,null,2012,2019,null,-86.49,null,2012,2020,null,-9.94,null,2011,2020,null,1.18,null,2012,2019,null,-86.49]
[3,1860,2.2000000000000002,-4.4400000000000004,"NaN","NaN",29,2012,2020,null,-6.31,0.65,"Heden","-",4.5199999999999996,-1.79,-8.11,-14.42,-20.74,{"$f":"Input!AB106","v":-24.48},{"$f":"Input!AC106","v":-30.79},{"$f":"Input!AD106","v":-37.11},{"$f":"Input!AE106","v":-43.42},{"$f":"Input!AF106","v":-49.74},null,null,2012,2019,null,-78.790000000000006,null,2012,2020,null,-12,null,2011,2020,null,1.62,null,2012,2019,null,-78.790000000000006]
[3,1880,2.2000000000000002,-4.4400000000000004,"NaN","NaN",37,2012,2020,null,-5.7,0.57999999999999996,"Heden","-",8.57,2.87,-2.83,-8.5399999999999991,-14.24,{"$f":"Input!AB107","v":-28.43},{"$f":"Input!AC107","v":-34.130000000000003},{"$f":"Input!AD107","v":-39.83},{"$f":"Input!AE107","v":-45.54},{"$f":"Input!AF107","v":-51.24},null,null,2012,2019,null,-81.81,null,2012,2020,null,-8.49,null,2011,2020,null,1.4,null,2012,2019,null,-81.81]
[3,1900,2.2000000000000002,-4.4400000000000004,"NaN","NaN",38,2012,2020,null,-5.71,0.72,"Heden","-",13.25,7.54,1.83,-3.88,-9.59,{"$f":"Input!AB108","v":-24.75},{"$f":"Input!AC108","v":-30.46},{"$f":"Input!AD108","v":-36.17},{"$f":"Input!AE108","v":-41.88},{"$f":"Input!AF108","v":-47.59},null,null,2012,2019,null,-64.989999999999995,null,2012,2020,null,-4.1399999999999997,null,2011,2020,null,1.0900000000000001,null,2012,2019,null,-64.989999999999995]
[3,1920,2.2000000000000002,-4.4400000000000004,"NaN","NaN",39,2012,2020,null,-5.5,0.68,"Heden","-",11.93,6.42,0.92,-4.59,-10.09,{"$f":"Input!AB109","v":-27.07},{"$f":"Input!AC109","v":-32.58},{"$f":"Input!AD109","v":-38.08},{"$f":"Input!AE109","v":-43.59},{"$f":"Input!AF109","v":-49.09},null,null,2012,2019,null,-58,null,2012,2020,null,-8.16,null,2011,2020,null,9.16,null,2012,2019,null,-58]
[3,1940,2.2000000000000002,-4.4400000000000004,"NaN","NaN",45,2012,2020,null,-5.82,0.65,"Heden","-",11.32,5.5,-0.32,-6.14,-11.96,{"$f":"Input!AB110","v":-33.68},{"$f":"Input!AC110","v":-39.5},{"$f":"Input!AD110","v":-45.32},{"$f":"Input!AE110","v":-51.14},{"$f":"Input!AF110","v":-56.96},null,null,2012,2019,null,-68.2,null,2012,2020,null,-5.88,null,2011,2020,null,8.09,null,2012,2019,null,-68.2]
[3,1960,2.2000000000000002,-4.4400000000000004,"NaN","NaN",52,2012,2020,null,-6.19,0.71,"Heden","-",9.85,3.66,-2.5299999999999998,-8.7200000000000006,-14.91,{"$f":"Input!AB111","v":-42.15},{"$f":"Input!AC111","v":-48.34},{"$f":"Input!AD111","v":-54.53},{"$f":"Input!AE111","v":-60.72},{"$f":"Input!AF111","v":-66.91},null,null,2012,2019,null,-63.8,null,2012,2020,null,-7.84,null,2011,2020,null,7.41,null,2012,2019,null,-63.8]
[3,1980,2.2000000000000002,-4.4400000000000004,"NaN","NaN",59,2012,2020,null,-5.89,0.6,"Heden","-",14.68,8.7899999999999991,2.9,-2.99,-8.8699999999999992,{"$f":"Input!AB112","v":-44.32},{"$f":"Input!AC112","v":-50.21},{"$f":"Input!AD112","v":-56.1},{"$f":"Input!AE112","v":-61.99},{"$f":"Input!AF112","v":-67.87},null,null,2012,2019,null,-79.55,null,2012,2020,null,-7.15,null,2011,2020,null,-0.78,null,2012,2019,null,-79.55]
[3,2000,2.2000000000000002,-4.4400000000000004,"NaN","NaN",58,2012,2020,null,-4.83,0.57999999999999996,"Heden","-",20.96,16.13,11.31,6.48,1.65,{"$f":"Input!AB113","v":-37.04},{"$f":"Input!AC113","v":-41.87},{"$f":"Input!AD113","v":-46.69},{"$f":"Input!AE113","v":-51.52},{"$f":"Input!AF113","v":-56.35},null,null,2012,2019,null,-65.53,null,2012,2020,null,-6.53,null,2011,2020,null,4.4800000000000004,null,2012,2019,null,-65.53]
[3,2020,2.2000000000000002,-4.4400000000000004,"NaN","NaN",102,2011,2020,null,-2.95,0.37,"Heden","-",59.86,56.9,53.95,51,48.04,{"$f":"Input!AB114","v":-42.14},{"$f":"Input!AC114","v":-45.1},{"$f":"Input!AD114","v":-48.05},{"$f":"Input!AE114","v":-51},{"$f":"Input!AF114","v":-53.96},null,null,2011,2019,null,-41.57,null,2011,2020,null,-7.52,null,2011,2020,null,8.0299999999999994,null,2011,2019,null,-41.57]
[3,2040,2.2000000000000002,-4.4400000000000004,"NaN","NaN",130,2011,2020,null,-2.58,0.46,"Heden","-",94.73,92.15,89.58,87,84.42,{"$f":"Input!AB115","v":-35.270000000000003},{"$f":"Input!AC115","v":-37.85},{"$f":"Input!AD115","v":-40.42},{"$f":"Input!AE115","v":-43},{"$f":"Input!AF115","v":-45.58},null,null,2011,2019,null,-56.49,null,2011,2020,null,-6.59,null,2011,2020,null,3.5,null,2011,2019,null,-56.49]
[3,2060,2.2000000000000002,-4.4400000000000004,"NaN","NaN",167,2011,2020,null,-1.77,0.34,"Heden","-",131,129.22999999999999,127.46,125.69,123.92,{"$f":"Input!AB116","v":-36},{"$f":"Input!AC116","v":-37.770000000000003},{"$f":"Input!AD116","v":-39.54},{"$f":"Input!AE116","v":-41.31},{"$f":"Input!AF116","v":-43.08},null,null,2011,2019,null,-42.12,null,2011,2020,null,-7.82,null,2011,2020,null,1.1000000000000001,null,2011,2019,null,-42.12]
[3,2080,2.2000000000000002,-4.4400000000000004,"NaN","NaN",195,2011,2020,null,-1.45,0.4,"Heden","-",161.37,159.91999999999999,158.47,157.01,155.56,{"$f":"Input!AB117","v":-33.630000000000003},{"$f":"Input!AC117","v":-35.08},{"$f":"Input!AD117","v":-36.53},{"$f":"Input!AE117","v":-37.99},{"$f":"Input!AF117","v":-39.44},null,null,2011,2019,null,-29.16,null,2011,2020,null,-4.1900000000000004,null,2011,2020,null,-0.44,null,2011,2019,null,-29.16]
[3,2100,2.2000000000000002,-4.4400000000000004,"NaN","NaN",223,2011,2020,null,-0.22,0.02,"Heden","-",197.99,197.77,197.55,197.33,197.11,{"$f":"Input!AB118","v":-25.01},{"$f":"Input!AC118","v":-25.23},{"$f":"Input!AD118","v":-25.45},{"$f":"Input!AE118","v":-25.67},{"$f":"Input!AF118","v":-25.89},null,null,2011,2019,null,-12.6,null,2011,2020,null,-0.72,null,2011,2020,null,1.85,null,2011,2019,null,-12.6]
[3,2120,2.2000000000000002,-4.4400000000000004,"NaN","NaN",257,2011,2020,null,0.84,0.2,"Heden","-",228.04,228.88,229.73,230.57,231.41,{"$f":"Input!AB119","v":-28.96},{"$f":"Input!AC119","v":-28.12},{"$f":"Input!AD119","v":-27.27},{"$f":"Input!AE119","v":-26.43},{"$f":"Input!AF119","v":-25.59},null,null,2011,2019,null,-15.78,null,2011,2020,null,-0.98,null,2011,2020,null,0.41,null,2011,2019,null,-15.78]
[3,2140,2.2000000000000002,-4.4400000000000004,"NaN","NaN",283,2011,2020,null,1.07,0.19,"Heden","-",256.41000000000003,257.48,258.55,259.62,260.69,{"$f":"Input!AB120","v":-26.59},{"$f":"Input!AC120","v":-25.52},{"$f":"Input!AD120","v":-24.45},{"$f":"Input!AE120","v":-23.38},{"$f":"Input!AF120","v":-22.31},null,null,2011,2019,null,-12.61,null,2011,2020,null,-0.69,null,2011,2020,null,2.17,null,2011,2019,null,-12.61]
[3,2160,2.2000000000000002,-4.4400000000000004,"NaN","NaN",307,2011,2020,null,1.99,0.32,"Heden","-",288.67,290.66000000000003,292.64999999999998,294.64,296.62,{"$f":"Input!AB121","v":-18.329999999999998},{"$f":"Input!AC121","v":-16.34},{"$f":"Input!AD121","v":-14.35},{"$f":"Input!AE121","v":-12.36},{"$f":"Input!AF121","v":-10.38},null,null,2011,2019,null,-15.53,null,2011,2020,null,-2.2599999999999998,null,2011,2020,null,-3.71,null,2011,2019,null,-15.53]
[3,2180,2.2000000000000002,-4.4400000000000004,"NaN","NaN",326,2011,2020,null,2.39,0.35,"Heden","-",315.04000000000002,317.42,319.81,322.2,324.58999999999997,{"$f":"Input!AB122","v":-10.96},{"$f":"Input!AC122","v":-8.58},{"$f":"Input!AD122","v":-6.19},{"$f":"Input!AE122","v":-3.8},{"$f":"Input!AF122","v":-1.41},null,null,2011,2019,null,-18.690000000000001,null,2011,2020,null,-0.21,null,2011,2020,null,-6.17,null,2011,2019,null,-18.690000000000001]
[3,2200,2.2000000000000002,-4.4400000000000004,"NaN","NaN",360,2011,2020,null,1.82,0.27,"Heden","-",337.09,338.91,340.73,342.55,344.37,{"$f":"Input!AB123","v":-22.91},{"$f":"Input!AC123","v":-21.09},{"$f":"Input!AD123","v":-19.27},{"$f":"Input!AE123","v":-17.45},{"$f":"Input!AF123","v":-15.63},null,null,2011,2019,null,-8.84,null,2011,2020,null,1.23,null,2011,2020,null,-3.53,null,2011,2019,null,-8.84]
[3,2220,2.2000000000000002,-4.4400000000000004,"NaN","NaN",360,2011,2020,null,2.19,0.43,"NaN","-",370.96,373.14,375.33,377.52,379.7,{"$f":"Input!AB124","v":10.96},{"$f":"Input!AC124","v":13.14},{"$f":"Input!AD124","v":15.33},{"$f":"Input!AE124","v":17.52},{"$f":"Input!AF124","v":19.7},null,null,2011,2019,null,-6.34,null,2011,2020,null,3.63,null,2011,2020,null,0.25,null,2011,2019,null,-6.34]
[3,2240,2.2000000000000002,-4.4400000000000004,"NaN","NaN",390,2011,2020,null,1.39,0.22,"NaN","-",401.85,403.24,404.63,406.02,407.41,{"$f":"Input!AB125","v":11.85},{"$f":"Input!AC125","v":13.24},{"$f":"Input!AD125","v":14.63},{"$f":"Input!AE125","v":16.02},{"$f":"Input!AF125","v":17.41},null,null,2011,2019,null,-18.13,null,2011,2020,null,0.97,null,2011,2020,null,-0.4,null,2011,2019,null,-18.13]
[3,2260,2.2000000000000002,-4.4400000000000004,"NaN","NaN",350,2011,2020,null,0.44,0.05,"NaN","-",426.37,426.81,427.25,427.68,428.12,{"$f":"Input!AB126","v":76.37},{"$f":"Input!AC126","v":76.81},{"$f":"Input!AD126","v":77.25},{"$f":"Input!AE126","v":77.680000000000007},{"$f":"Input!AF126","v":78.12},null,null,2011,2019,null,-21.69,null,2011,2020,null,-0.73,null,2011,2020,null,3.5,null,2011,2019,null,-21.69]
[3,2280,2.2000000000000002,-4.4400000000000004,"NaN","NaN",300,2011,2020,null,1.01,0.13,"NaN","-",458.99,460,461.01,462.02,463.02,{"$f":"Input!AB127","v":158.99},{"$f":"Input!AC127","v":160},{"$f":"Input!AD127","v":161.01},{"$f":"Input!AE127","v":162.02000000000001},{"$f":"Input!AF127","v":163.02000000000001},null,null,2011,2019,null,-3.77,null,2011,2020,null,5.86,null,2011,2020,null,10.19,null,2011,2020,null,17.78]
[3,4800,2.2000000000000002,-4.4400000000000004,"NaN",500,183,2011,2020,null,-0.56999999999999995,0.4,"2041-04-22",">2031",194.67,194.09,193.52,192.94,192.37,{"$f":"Input!AB128","v":11.67},{"$f":"Input!AC128","v":11.09},{"$f":"Input!AD128","v":10.52},{"$f":"Input!AE128","v":9.94},{"$f":"Input!AF128","v":9.3699999999999992},null,null,2011,2017,null,-106.01,null,2011,2016,null,-2.8,null,2011,2020,null,-2.93,null,2011,2017,null,-106.01]
[3,4820,2.2000000000000002,-4.4400000000000004,"NaN",900,201,2011,2020,"2012,2015,2020,2011",{"$f":"Input!R129","v":-0.17},{"$f":"Input!S129","v":0.2},{"$f":"Input!T129","v":"2120-01-28"},{"$f":"Input!X129","v":">2031"},218.01,217.84,217.67,217.5,217.32,{"$f":"Input!AB129","v":217.84},{"$f":"Input!AC129","v":217.67},{"$f":"Input!AD129","v":217.5},{"$f":"Input!AE129","v":217.32},{"$f":"Input!AF129","v":17.010000000000002},null,null,2011,2017,null,-115.73,null,2011,2016,2011.2012,-3.02,null,2011,2020,null,0.52,null,2011,2017,2011.2012,-157.13]
[3,4840,2.2000000000000002,-4.4400000000000004,"NaN",900,210,2011,2020,null,1.8,0.7,"NaN","-",227.69,229.49,231.29,233.09,234.89,{"$f":"Input!AB130","v":17.690000000000001},{"$f":"Input!AC130","v":19.489999999999998},{"$f":"Input!AD130","v":21.29},{"$f":"Input!AE130","v":23.09},{"$f":"Input!AF130","v":24.89},null,null,2011,2020,null,23.95,null,2011,2020,null,8.44,null,2011,2020,null,0.34,null,2011,2020,null,23.95]
[3,4860,2.2000000000000002,-4.4400000000000004,"NaN",900,201,2011,2020,null,0.76,0.56999999999999995,"NaN","-",216.34,217.1,217.87,218.63,219.39,{"$f":"Input!AB131","v":15.34},{"$f":"Input!AC131","v":16.100000000000001},{"$f":"Input!AD131","v":16.87},{"$f":"Input!AE131","v":17.63},{"$f":"Input!AF131","v":18.39},null,null,2011,2020,null,17.03,null,2011,2020,null,2.99,null,2011,2020,null,7.0000000000000007E-2,null,2011,2020,null,17.03]
[3,4880,2.2000000000000002,-4.4400000000000004,"NaN",1000,179,2011,2020,null,0.83,0.44,"NaN","-",201.11,201.94,202.77,203.59,204.42,{"$f":"Input!AB132","v":22.11},{"$f":"Input!AC132","v":22.94},{"$f":"Input!AD132","v":23.77},{"$f":"Input!AE132","v":24.59},{"$f":"Input!AF132","v":25.42},null,null,2011,2020,null,34.5,null,2011,2020,null,4.92,null,2011,2020,null,3.28,null,2011,2020,null,34.5]
[3,4900,2.2000000000000002,-4.4400000000000004,"NaN",1000,140,2011,2020,null,1.67,0.71,"NaN","-",183.37,185.04,186.71,188.38,190.05,{"$f":"Input!AB133","v":43.37},{"$f":"Input!AC133","v":45.04},{"$f":"Input!AD133","v":46.71},{"$f":"Input!AE133","v":48.38},{"$f":"Input!AF133","v":50.05},null,null,2011,2020,null,41.05,null,2011,2020,null,8.68,null,2011,2020,null,4.51,null,2011,2020,null,41.05]
[3,4901,2.2000000000000002,-4.4400000000000004,"NaN",1000,142,2011,2020,null,1.84,0.73,"NaN","-",183.59,185.43,187.28,189.12,190.96,{"$f":"Input!AB134","v":41.59},{"$f":"Input!AC134","v":43.43},{"$f":"Input!AD134","v":45.28},{"$f":"Input!AE134","v":47.12},{"$f":"Input!AF134","v":48.96},null,null,2011,2020,null,43.87,null,2011,2020,null,8.8800000000000008,null,2011,2020,null,4.5199999999999996,null,2011,2020,null,43.87]
[3,4902,2.2000000000000002,-4.4400000000000004,"NaN",1000,141,2011,2020,null,1.97,0.75,"NaN","-",185.94,187.91,189.89,191.86,193.84,{"$f":"Input!AB135","v":44.94},{"$f":"Input!AC135","v":46.91},{"$f":"Input!AD135","v":48.89},{"$f":"Input!AE135","v":50.86},{"$f":"Input!AF135","v":52.84},null,null,2011,2020,null,45.24,null,2011,2020,null,9.25,null,2011,2020,null,4.21,null,2011,2020,null,45.24]
[3,4916,2.2000000000000002,-4.4400000000000004,"NaN",1000,149,2011,2020,null,2.2400000000000002,0.56999999999999995,"NaN","-",197.43,199.67,201.9,204.14,206.37,{"$f":"Input!AB136","v":48.43},{"$f":"Input!AC136","v":50.67},{"$f":"Input!AD136","v":52.9},{"$f":"Input!AE136","v":55.14},{"$f":"Input!AF136","v":57.37},null,null,2011,2020,null,28.4,null,2011,2020,null,7.41,null,2011,2020,null,5.84,null,2011,2020,null,28.4]
[3,4928,2.2000000000000002,-4.4400000000000004,"NaN",1000,146,2011,2020,null,1.36,0.16,"NaN","-",190.61,191.96,193.32,194.68,196.04,{"$f":"Input!AB137","v":44.61},{"$f":"Input!AC137","v":45.96},{"$f":"Input!AD137","v":47.32},{"$f":"Input!AE137","v":48.68},{"$f":"Input!AF137","v":50.04},null,null,2011,2020,null,15.92,null,2011,2020,null,2.4900000000000002,null,2011,2020,null,5.58,null,2011,2020,null,15.92]
[3,4941,2.2000000000000002,-4.4400000000000004,"NaN",1000,144,2011,2020,null,2.1800000000000002,0.28999999999999998,"NaN","-",186.43,188.61,190.78,192.96,195.14,{"$f":"Input!AB138","v":42.43},{"$f":"Input!AC138","v":44.61},{"$f":"Input!AD138","v":46.78},{"$f":"Input!AE138","v":48.96},{"$f":"Input!AF138","v":51.14},null,null,2011,2020,null,5.29,null,2011,2020,null,7.42,null,2011,2020,null,7.02,null,2011,2020,null,5.29]
[3,4953,2.2000000000000002,-4.4400000000000004,"NaN",1000,109,2011,2020,null,3.51,0.41,"NaN","-",178.19,181.7,185.21,188.71,192.22,{"$f":"Input!AB139","v":69.19},{"$f":"Input!AC139","v":72.7},{"$f":"Input!AD139","v":76.209999999999994},{"$f":"Input!AE139","v":79.709999999999994},{"$f":"Input!AF139","v":83.22},null,null,2011,2020,null,-29.69,null,2011,2020,null,15.62,null,2011,2020,null,3.95,null,2011,2020,null,-29.69]
[3,4966,2.2000000000000002,-4.4400000000000004,"NaN",1000,64,2011,2020,null,4.63,0.51,"NaN","-",160.72999999999999,165.36,169.99,174.62,179.25,{"$f":"Input!AB140","v":96.73},{"$f":"Input!AC140","v":101.36},{"$f":"Input!AD140","v":105.99},{"$f":"Input!AE140","v":110.62},{"$f":"Input!AF140","v":115.25},null,null,2011,2020,null,-28.52,null,2011,2020,null,17.12,null,2011,2020,null,8.18,null,2011,2020,null,-28.52]

{"sheet":"Grafieken","index":3,"n_rows":0,"n_cols":0,"rows_kept":0,"cut":false,"hidden":false,"merged":[]}

{"sheet":"Blad1","index":4,"n_rows":17,"n_cols":5,"rows_kept":17,"cut":false,"hidden":false,"merged":[]}
["02","Schiermonnikoog","2018-01-01","BKL",2018]
["03","Ameland","2019-01-01","HBKL",2019]
["04","Terschelling","2020-01-01",null,2020]
["05","Vlieland","2021-01-01",null,2021]
["06","Texel","2022-01-01",null,2022]
["07","Noord-Holland","2023-01-01",null,2023]
["08","Rijnland","2024-01-01",null,2024]
["09","Delfland","2025-01-01",null,2025]
["10",null,"2026-01-01",null,2026]
["11","Voorne","2027-01-01",null,2027]
["12","Goeree","2028-01-01",null,2028]
["13","Schouwen","2029-01-01",null,2029]
["14",null,"2030-01-01",null,2030]
["15","Noord-Beveland","2031-01-01",null,2031]
["16","Walcheren","2032-01-01",null,2032]
["17","Zeeuws-Vlaanderen","2033-01-01",null,2033]
[null,null,"2034-01-01",null,2034]